Workbook
Name _2._Data_reporting___questionnaire: #REF!
Name _2._Description_of_the_parties_involved_in_the_data_collection: #REF!
Name _2._Legal_acts: #REF!
Name _3._Data_reporting___questionnaire: #REF!
Name _3._Description_of_methods_used: #REF!
Name _3._Methodological_notes: #REF!
Name _3._Methodology_for_reporting_by_numbers: #REF!
Name _4._Accuracy_of_the_data: #REF!
Name _4._Data_reporting___questionnaire: #REF!
Name _4._Methodology_for_reporting_by_numbers: #REF!
Name _4._Methodology_for_reporting_by_weight: #REF!
Name _5._Confidentiality: #REF!
Name _6._Main_national_websites__reference_documents_and_publications: #REF!
Name a: #REF!
Name aa: #REF!
Name aa: #REF!
Name aaa: #REF!
Name aaaa: #REF!
Name ABCD: #REF!
Name anew: #REF!
Name Annual_consumption_of_lightweight_plastic_carrier_bags_QUALITY_REPORT: #REF!
Name ANNUAL_CONSUMPTION_OF_LIGHTWEIGHT_PLASTIC_CARRIER_BAGS_QUESTIONS_ON_METHODOLOGY_AND_COVERAGE: #REF!
Name Ano: #REF!
Name as: #REF!
Name COUNTRY: #REF!
Name Data_uses: #REF!
Name DECIMALS: #REF!
Name ficha_3: #REF!
Name ficha_3: #REF!
Name ficha_5: #REF!
Name ficha_5: #REF!
Name ficha_6: #REF!
Name ficha_6: #REF!
Name Fluxog_Resialentejo: #REF!
Name Fluxog_Resialentejo: #REF!
Name Formulário: #REF!
Name FRT_N90: #REF!
Name Legal_acts: #REF!
Name LER: #REF!
Name mmm: #REF!
Name New_calculation: #REF!
Name PDR: #REF!
Name Preço_N90: #REF!
Name ROUNDING: #REF!
Name TipoResíduo: #REF!
Name Triagem: #REF!
Name unhide_all_sheets: #REF!

Sheet Indicadores RU
C3: Tabela 1 - Dados de Resíduos Urbanos, do ano 2025
C4: Fonte: Formulários do Mapa de Registo de Resíduos Urbanos disponibilizados através da Plataforma SILiAmb
A7: Designação | B7: unidade | C7: Algar | D7: Amarsul | E7: Ambilital | F7: Ambisousa | G7: Amcal | H7: Braval | I7: Planalto Beirão | J7: Ecoleziria | K7: ERSUC | L7: Gesamb | M7: Lipor | N7: Resialentejo | O7: Resíduos Nordeste | P7: Resiestrela | Q7: RESINORTE | R7: RSTJ | S7: Resulima | T7: Suldouro | U7: Tratolixo | V7: Valnor | W7: Valorlis | X7: Valorminho | Y7: Valorsul | AA7: Total PT continental
A8: Quantidade de total de resíduos produzidos/recebidos | B8: tonelada | C8: =SUM(C11:C15) -> 440553.03 | D8: =SUM(D11:D15) -> 501914.87 | E8: =SUM(E11:E15) -> 73985.616 | F8: =SUM(F11:F15) -> 156004.99 | G8: =SUM(G11:G15) -> 14257.08 | H8: =SUM(H11:H15) -> 146949.51 | I8: =SUM(I11:I15) -> 154539.95 | J8: =SUM(J11:J15) -> 67977.763 | ... Y8: =SUM(Y11:Y15) -> 863670.06 | AA8: =SUM(C8:Y8) -> 5426493.4
A9: Quantidade de RU produzidos/recebidos | B9: tonelada | C9: =SUM(C11:C14) -> 434596.79 | D9: =SUM(D11:D14) -> 495593.4 | E9: =SUM(E11:E14) -> 73985.616 | F9: =SUM(F11:F14) -> 156004.99 | G9: =SUM(G11:G14) -> 14257.08 | H9: =SUM(H11:H14) -> 137296.65 | I9: =SUM(I11:I14) -> 143204.35 | J9: =SUM(J11:J14) -> 67974.183 | ... Y9: =SUM(Y11:Y14) -> 861654.43 | AA9: =SUM(C9:Y9) -> 5380414.4
A11: Recolha Indiferenciada | B11: tonelada | C11: =VLOOKUP(C7,'[1]Total SGRU'!$B$11:$L$36,2,FALSE) -> 288247.58 | D11: =VLOOKUP(D7,'[1]Total SGRU'!$B$11:$L$36,2,FALSE) -> 316323.1 | E11: =VLOOKUP(E7,'[1]Total SGRU'!$B$11:$L$36,2,FALSE) -> 59326.12 | F11: =VLOOKUP(F7,'[1]Total SGRU'!$B$11:$L$36,2,FALSE) -> 137762.21 | G11: =VLOOKUP(G7,'[1]Total SGRU'!$B$11:$L$36,2,FALSE) -> 9594.54 | H11: =VLOOKUP(H7,'[1]Total SGRU'!$B$11:$L$36,2,FALSE) -> 112173.73 | I11: =VLOOKUP(I7,'[1]Total SGRU'!$B$11:$L$36,2,FALSE) -> 119381.8 | J11: =VLOOKUP(J7,'[1]Total SGRU'!$B$11:$L$36,2,FALSE) -> 58619.28 | ... Y11: =VLOOKUP(Y7,'[1]Total SGRU'!$B$11:$L$36,2,FALSE) -> 659855.77 | AA11: =SUM(C11:Y11) -> 4011950.3
A12: Recolha Seletiva e outras recolhas | B12: tonelada | C12: =VLOOKUP(C7,'[1]Total SGRU'!$B$11:$L$36,3,FALSE) -> 122459.35 | D12: =VLOOKUP(D7,'[1]Total SGRU'!$B$11:$L$36,3,FALSE) -> 177804.74 | E12: =VLOOKUP(E7,'[1]Total SGRU'!$B$11:$L$36,3,FALSE) -> 12528.615 | F12: =VLOOKUP(F7,'[1]Total SGRU'!$B$11:$L$36,3,FALSE) -> 15478.29 | G12: =VLOOKUP(G7,'[1]Total SGRU'!$B$11:$L$36,3,FALSE) -> 4585.88 | H12: =VLOOKUP(H7,'[1]Total SGRU'!$B$11:$L$36,3,FALSE) -> 24889.001 | I12: =VLOOKUP(I7,'[1]Total SGRU'!$B$11:$L$36,3,FALSE) -> 21557.202 | J12: =VLOOKUP(J7,'[1]Total SGRU'!$B$11:$L$36,3,FALSE) -> 8228.06 | ... Y12: =VLOOKUP(Y7,'[1]Total SGRU'!$B$11:$L$36,3,FALSE) -> 193036.28 | AA12: =SUM(C12:Y12) -> 1283859.1
A13: Entradas de outros produtores de RU | B13: tonelada | C13: =VLOOKUP(C7,'[1]Total SGRU'!$B$11:$L$36,4,FALSE) -> 22965.412 | D13: =VLOOKUP(D7,'[1]Total SGRU'!$B$11:$L$36,4,FALSE) -> 1004.75 | E13: =VLOOKUP(E7,'[1]Total SGRU'!$B$11:$L$36,4,FALSE) -> 2065.3842 | F13: =VLOOKUP(F7,'[1]Total SGRU'!$B$11:$L$36,4,FALSE) -> 0 | G13: =VLOOKUP(G7,'[1]Total SGRU'!$B$11:$L$36,4,FALSE) -> 73.2 | H13: =VLOOKUP(H7,'[1]Total SGRU'!$B$11:$L$36,4,FALSE) -> 222.88 | I13: =VLOOKUP(I7,'[1]Total SGRU'!$B$11:$L$36,4,FALSE) -> 1856.46 | J13: =VLOOKUP(J7,'[1]Total SGRU'!$B$11:$L$36,4,FALSE) -> 0 | ... Y13: =VLOOKUP(Y7,'[1]Total SGRU'!$B$11:$L$36,4,FALSE) -> 7278.548 | AA13: =SUM(C13:Y13) -> 58108.667
A14: Reciclagem na Origem | B14: tonelada | C14: =VLOOKUP(C7,[1]Biorresíduos_RO_f!$A$315:$E$337,5,FALSE) -> 924.44323 | D14: =VLOOKUP(D7,[1]Biorresíduos_RO_f!$A$315:$E$337,5,FALSE) -> 460.81153 | E14: =VLOOKUP(E7,[1]Biorresíduos_RO_f!$A$315:$E$337,5,FALSE) -> 65.496975 | F14: =VLOOKUP(F7,[1]Biorresíduos_RO_f!$A$315:$E$337,5,FALSE) -> 2764.4937 | G14: =VLOOKUP(G7,[1]Biorresíduos_RO_f!$A$315:$E$337,5,FALSE) -> 3.46 | H14: =VLOOKUP(H7,[1]Biorresíduos_RO_f!$A$315:$E$337,5,FALSE) -> 11.032911 | I14: =VLOOKUP(I7,[1]Biorresíduos_RO_f!$A$315:$E$337,5,FALSE) -> 408.89145 | J14: =VLOOKUP(J7,[1]Biorresíduos_RO_f!$A$315:$E$337,5,FALSE) -> 1126.8426 | ... Y14: =VLOOKUP(Y7,[1]Biorresíduos_RO_f!$A$315:$E$337,5,FALSE) -> 1483.8375 | AA14: =SUM(C14:Y14) -> 26496.358
A15: Entradas de RNU | B15: tonelada | C15: =VLOOKUP(C7,'[1]Total SGRU'!$B$11:$L$36,5,FALSE) -> 5956.24 | D15: =VLOOKUP(D7,'[1]Total SGRU'!$B$11:$L$36,5,FALSE) -> 6321.47 | E15: =VLOOKUP(E7,'[1]Total SGRU'!$B$11:$L$36,5,FALSE) -> 0 | F15: =VLOOKUP(F7,'[1]Total SGRU'!$B$11:$L$36,5,FALSE) -> 0 | G15: =VLOOKUP(G7,'[1]Total SGRU'!$B$11:$L$36,5,FALSE) -> 0 | H15: =VLOOKUP(H7,'[1]Total SGRU'!$B$11:$L$36,5,FALSE) -> 9652.86 | I15: =VLOOKUP(I7,'[1]Total SGRU'!$B$11:$L$36,5,FALSE) -> 11335.6 | J15: =VLOOKUP(J7,'[1]Total SGRU'!$B$11:$L$36,5,FALSE) -> 3.58 | ... Y15: =VLOOKUP(Y7,'[1]Total SGRU'!$B$11:$L$36,5,FALSE) -> 2015.629 | AA15: =SUM(C15:Y15) -> 46079.029
A17: Quantidade total de resíduos depositados em aterro | B17: tonelada | C17: =SUM(C18:C22) -> 359872.06 | D17: =SUM(D18:D22) -> 371065.95 | E17: =SUM(E18:E22) -> 48400.181 | F17: =SUM(F18:F22) -> 139261.23 | G17: =SUM(G18:G22) -> 8064.72 | H17: =SUM(H18:H22) -> 118493.37 | I17: =SUM(I18:I22) -> 129655.56 | J17: =SUM(J18:J22) -> 59071.44 | ... Y17: =SUM(Y18:Y22) -> 79257.949 | AA17: =SUM(C17:Y17) -> 3012561.7
A18: Resíduos Urbanos recolhas municipais | B18: tonelada | C18: =VLOOKUP(C7,[1]Entrada_tratamento!$C$14:$H$85,2,FALSE)+VLOOKUP(C7,[1]Entrada_tratamento!$C$14:$H$85,3,FALSE) -> 205967.01 | D18: =VLOOKUP(D7,[1]Entrada_tratamento!$C$14:$H$85,2,FALSE)+VLOOKUP(D7,[1]Entrada_tratamento!$C$14:$H$85,3,FALSE) -> 142459.87 | E18: =VLOOKUP(E7,[1]Entrada_tratamento!$C$14:$H$85,2,FALSE)+VLOOKUP(E7,[1]Entrada_tratamento!$C$14:$H$85,3,FALSE) -> 33791.899 | F18: =VLOOKUP(F7,[1]Entrada_tratamento!$C$14:$H$85,2,FALSE)+VLOOKUP(F7,[1]Entrada_tratamento!$C$14:$H$85,3,FALSE) -> 137762.21 | G18: =VLOOKUP(G7,[1]Entrada_tratamento!$C$14:$H$85,2,FALSE)+VLOOKUP(G7,[1]Entrada_tratamento!$C$14:$H$85,3,FALSE) -> 5604.46 | H18: =VLOOKUP(H7,[1]Entrada_tratamento!$C$14:$H$85,2,FALSE)+VLOOKUP(H7,[1]Entrada_tratamento!$C$14:$H$85,3,FALSE) -> 59223.547 | I18: =VLOOKUP(I7,[1]Entrada_tratamento!$C$14:$H$85,2,FALSE)+VLOOKUP(I7,[1]Entrada_tratamento!$C$14:$H$85,3,FALSE) -> 41915.48 | J18: =VLOOKUP(J7,[1]Entrada_tratamento!$C$14:$H$85,2,FALSE)+VLOOKUP(J7,[1]Entrada_tratamento!$C$14:$H$85,3,FALSE) -> 59069.92 | ... Y18: =VLOOKUP(Y7,[1]Entrada_tratamento!$C$14:$H$85,2,FALSE)+VLOOKUP(Y7,[1]Entrada_tratamento!$C$14:$H$85,3,FALSE) -> 65668.95 | AA18: =SUM(C18:Y18) -> 1146607.2
A19: RU (Outros produtores de RU) | B19: tonelada | C19: =VLOOKUP(C7,[1]Entrada_tratamento!$C$14:$H$85,4,FALSE) -> 19740.272 | D19: =VLOOKUP(D7,[1]Entrada_tratamento!$C$14:$H$85,4,FALSE) -> 196.92 | E19: =VLOOKUP(E7,[1]Entrada_tratamento!$C$14:$H$85,4,FALSE) -> 845.74176 | F19: =VLOOKUP(F7,[1]Entrada_tratamento!$C$14:$H$85,4,FALSE) -> 0 | G19: =VLOOKUP(G7,[1]Entrada_tratamento!$C$14:$H$85,4,FALSE) -> 0 | H19: =VLOOKUP(H7,[1]Entrada_tratamento!$C$14:$H$85,4,FALSE) -> 98.06 | I19: =VLOOKUP(I7,[1]Entrada_tratamento!$C$14:$H$85,4,FALSE) -> 1856.46 | J19: =VLOOKUP(J7,[1]Entrada_tratamento!$C$14:$H$85,4,FALSE) -> 0 | ... Y19: =VLOOKUP(Y7,[1]Entrada_tratamento!$C$14:$H$85,4,FALSE) -> 0 | AA19: =SUM(C19:Y19) -> 23922.802
A20: RU recebido de outro SGRU | B20: tonelada | C20: =VLOOKUP(C7,[1]Entrada_tratamento!$C$14:$H$85,6,FALSE) -> 0 | D20: =VLOOKUP(D7,[1]Entrada_tratamento!$C$14:$H$85,6,FALSE) -> 0 | E20: =VLOOKUP(E7,[1]Entrada_tratamento!$C$14:$H$85,6,FALSE) -> 0 | F20: =VLOOKUP(F7,[1]Entrada_tratamento!$C$14:$H$85,6,FALSE) -> 0 | G20: =VLOOKUP(G7,[1]Entrada_tratamento!$C$14:$H$85,6,FALSE) -> 0 | H20: =VLOOKUP(H7,[1]Entrada_tratamento!$C$14:$H$85,6,FALSE) -> 0 | I20: =VLOOKUP(I7,[1]Entrada_tratamento!$C$14:$H$85,6,FALSE) -> 0 | J20: =VLOOKUP(J7,[1]Entrada_tratamento!$C$14:$H$85,6,FALSE) -> 0 | ... Y20: =VLOOKUP(Y7,[1]Entrada_tratamento!$C$14:$H$85,6,FALSE) -> 0 | AA20: =SUM(C20:Y20) -> 178.28
A21: RNU | B21: tonelada | C21: =VLOOKUP(C7,[1]Entrada_tratamento!$C$14:$H$85,5,FALSE) -> 4744.8 | D21: =VLOOKUP(D7,[1]Entrada_tratamento!$C$14:$H$85,5,FALSE) -> 6321.47 | E21: =VLOOKUP(E7,[1]Entrada_tratamento!$C$14:$H$85,5,FALSE) -> 0 | F21: =VLOOKUP(F7,[1]Entrada_tratamento!$C$14:$H$85,5,FALSE) -> 0 | G21: =VLOOKUP(G7,[1]Entrada_tratamento!$C$14:$H$85,5,FALSE) -> 0 | H21: =VLOOKUP(H7,[1]Entrada_tratamento!$C$14:$H$85,5,FALSE) -> 9474.28 | I21: =VLOOKUP(I7,[1]Entrada_tratamento!$C$14:$H$85,5,FALSE) -> 11335.6 | J21: =VLOOKUP(J7,[1]Entrada_tratamento!$C$14:$H$85,5,FALSE) -> 0 | ... Y21: =VLOOKUP(Y7,[1]Entrada_tratamento!$C$14:$H$85,5,FALSE) -> 805.689 | AA21: =SUM(C21:Y21) -> 40990.499
A22: Rejeitados/Refugos/outros resíduos resultantes recebidos | B22: tonelada | C22: =VLOOKUP(C7,[1]Entrada_tratamento!$C$14:$S$85,17,FALSE) -> 129419.98 | D22: =VLOOKUP(D7,[1]Entrada_tratamento!$C$14:$S$85,17,FALSE) -> 222087.69 | E22: =VLOOKUP(E7,[1]Entrada_tratamento!$C$14:$S$85,17,FALSE) -> 13762.54 | F22: =VLOOKUP(F7,[1]Entrada_tratamento!$C$14:$S$85,17,FALSE) -> 1499.02 | G22: =VLOOKUP(G7,[1]Entrada_tratamento!$C$14:$S$85,17,FALSE) -> 2460.26 | H22: =VLOOKUP(H7,[1]Entrada_tratamento!$C$14:$S$85,17,FALSE) -> 49697.487 | I22: =VLOOKUP(I7,[1]Entrada_tratamento!$C$14:$S$85,17,FALSE) -> 74548.02 | J22: =VLOOKUP(J7,[1]Entrada_tratamento!$C$14:$S$85,17,FALSE) -> 1.52 | ... Y22: =VLOOKUP(Y7,[1]Entrada_tratamento!$C$14:$S$85,17,FALSE) -> 12783.31 | AA22: =SUM(C22:Y22) -> 1800862.9
A23: Quantidade total de resíduos que deram entrada em unidades de TMB | B23: tonelada | C23: =SUM(C24:C29) -> 103855.64 | D23: =SUM(D24:D29) -> 241542.12 | E23: =SUM(E24:E29) -> 31097.793 | F23: =SUM(F24:F29) -> 0 | G23: =SUM(G24:G29) -> 6396.3 | H23: =SUM(H24:H29) -> 57923.76 | I23: =SUM(I24:I29) -> 81734.28 | J23: =SUM(J24:J29) -> 0 | ... Y23: =SUM(Y24:Y29) -> 0 | AA23: =SUM(C23:Y23) -> 1880287
A24: Resíduos Urbanos recolhas municipais | B24: tonelada | C24: =VLOOKUP(C7,[1]Entrada_tratamento!$C$184:$I$240,2,FALSE)+VLOOKUP(C7,[1]Entrada_tratamento!$C$184:$I$240,3,FALSE)-C25 -> 95893.457 | D24: =VLOOKUP(D7,[1]Entrada_tratamento!$C$184:$I$240,2,FALSE)+VLOOKUP(D7,[1]Entrada_tratamento!$C$184:$I$240,3,FALSE)-D25 -> 226443.5 | E24: =VLOOKUP(E7,[1]Entrada_tratamento!$C$184:$I$240,2,FALSE)+VLOOKUP(E7,[1]Entrada_tratamento!$C$184:$I$240,3,FALSE)-E25 -> 25929.721 | F24: =VLOOKUP(F7,[1]Entrada_tratamento!$C$184:$I$240,2,FALSE)+VLOOKUP(F7,[1]Entrada_tratamento!$C$184:$I$240,3,FALSE)-F25 -> 0 | G24: =VLOOKUP(G7,[1]Entrada_tratamento!$C$184:$I$240,2,FALSE)+VLOOKUP(G7,[1]Entrada_tratamento!$C$184:$I$240,3,FALSE)-G25 -> 5982.96 | H24: =VLOOKUP(H7,[1]Entrada_tratamento!$C$184:$I$240,2,FALSE)+VLOOKUP(H7,[1]Entrada_tratamento!$C$184:$I$240,3,FALSE)-H25 -> 57894.2 | I24: =VLOOKUP(I7,[1]Entrada_tratamento!$C$135:$I$177,2,FALSE)+VLOOKUP(I7,[1]Entrada_tratamento!$C$135:$I$177,3,FALSE) -> 81596.34 | J24: =VLOOKUP(J7,[1]Entrada_tratamento!$C$184:$I$240,2,FALSE)+VLOOKUP(J7,[1]Entrada_tratamento!$C$184:$I$240,3,FALSE)-J25 -> 0 | K24: =VLOOKUP(K7,[1]Entrada_tratamento!$C$184:$I$240,2,FALSE)+VLOOKUP(K7,[1]Entrada_tratamento!$C$184:$I$240,3,FALSE)-K25 -> 356327.48 | L24: =VLOOKUP(L7,[1]Entrada_tratamento!$C$184:$I$240,2,FALSE)+VLOOKUP(L7,[1]Entrada_tratamento!$C$184:$I$240,3,FALSE)-L25 -> 59210.403 | M24: =VLOOKUP(M7,[1]Entrada_tratamento!$C$184:$I$240,2,FALSE)+VLOOKUP(M7,[1]Entrada_tratamento!$C$184:$I$240,3,FALSE)-M25 -> 0 | N24: =VLOOKUP(N7,[1]Entrada_tratamento!$C$184:$I$240,2,FALSE)+VLOOKUP(N7,[1]Entrada_tratamento!$C$184:$I$240,3,FALSE)-N25 -> 42485.673 | O24: =VLOOKUP(O7,[1]Entrada_tratamento!$C$184:$I$240,2,FALSE)+VLOOKUP(O7,[1]Entrada_tratamento!$C$184:$I$240,3,FALSE)-O25 -> 54387.38 | P24: =VLOOKUP(P7,[1]Entrada_tratamento!$C$184:$I$240,2,FALSE)+VLOOKUP(P7,[1]Entrada_tratamento!$C$184:$I$240,3,FALSE)-P25 -> 68641.24 | Q24: =VLOOKUP(Q7,[1]Entrada_tratamento!$C$184:$I$240,2,FALSE)+VLOOKUP(Q7,[1]Entrada_tratamento!$C$184:$I$240,3,FALSE)-Q25 -> 125878.42 | ... Y24: =VLOOKUP(Y7,[1]Entrada_tratamento!$C$184:$I$240,2,FALSE)+VLOOKUP(Y7,[1]Entrada_tratamento!$C$184:$I$240,3,FALSE)-Y25 -> 0 | AA24: =SUM(C24:Y24) -> 1654921.2
A25: RUB e Verdes de recolhas municipais | B25: tonelada | C25: =VLOOKUP(C7,'[1]Tabelas AUX'!$B$109:$M$133,11,FALSE)+VLOOKUP(C7,'[1]Tabelas AUX'!$B$109:$M$133,12,FALSE) -> 5925.38 | D25: =VLOOKUP(D7,'[1]Tabelas AUX'!$B$109:$M$133,11,FALSE)+VLOOKUP(D7,'[1]Tabelas AUX'!$B$109:$M$133,12,FALSE) -> 11128.95 | E25: =VLOOKUP(E7,'[1]Tabelas AUX'!$B$109:$M$133,11,FALSE)+VLOOKUP(E7,'[1]Tabelas AUX'!$B$109:$M$133,12,FALSE) -> 2660.41 | F25: =VLOOKUP(F7,'[1]Tabelas AUX'!$B$109:$M$133,11,FALSE)+VLOOKUP(F7,'[1]Tabelas AUX'!$B$109:$M$133,12,FALSE) -> 0 | G25: =VLOOKUP(G7,'[1]Tabelas AUX'!$B$109:$M$133,11,FALSE)+VLOOKUP(G7,'[1]Tabelas AUX'!$B$109:$M$133,12,FALSE)-G31 -> 413.34 | H25: =VLOOKUP(H7,'[1]Tabelas AUX'!$B$109:$M$133,11,FALSE)+VLOOKUP(H7,'[1]Tabelas AUX'!$B$109:$M$133,12,FALSE) -> 27.96 | I25: =VLOOKUP(I7,'[1]Tabelas AUX'!$B$109:$M$133,11,FALSE)+VLOOKUP(I7,'[1]Tabelas AUX'!$B$109:$M$133,12,FALSE) -> 137.94 | J25: =VLOOKUP(J7,'[1]Tabelas AUX'!$B$109:$M$133,11,FALSE)+VLOOKUP(J7,'[1]Tabelas AUX'!$B$109:$M$133,12,FALSE) -> 0 | K25: =VLOOKUP(K7,'[1]Tabelas AUX'!$B$109:$M$133,11,FALSE)+VLOOKUP(K7,'[1]Tabelas AUX'!$B$109:$M$133,12,FALSE) -> 10274.98 | L25: =VLOOKUP(L7,'[1]Tabelas AUX'!$B$109:$M$133,11,FALSE)+VLOOKUP(L7,'[1]Tabelas AUX'!$B$109:$M$133,12,FALSE) -> 1651.28 | M25: =VLOOKUP(M7,'[1]Tabelas AUX'!$B$109:$M$133,11,FALSE)+VLOOKUP(M7,'[1]Tabelas AUX'!$B$109:$M$133,12,FALSE) -> 0 | N25: =VLOOKUP(N7,'[1]Tabelas AUX'!$B$109:$M$133,11,FALSE)+VLOOKUP(N7,'[1]Tabelas AUX'!$B$109:$M$133,12,FALSE) -> 2573.45 | O25: =VLOOKUP(O7,'[1]Tabelas AUX'!$B$109:$M$133,11,FALSE)+VLOOKUP(O7,'[1]Tabelas AUX'!$B$109:$M$133,12,FALSE) -> 225.98 | ... Y25: =VLOOKUP(Y7,'[1]Tabelas AUX'!$B$109:$M$133,11,FALSE)+VLOOKUP(Y7,'[1]Tabelas AUX'!$B$109:$M$133,12,FALSE) -> 0 | AA25: =SUM(C25:Y25) -> 84397.685
A26: RU (Outros produtores de RU) | B26: tonelada | C26: =VLOOKUP(C7,[1]Entrada_tratamento!$C$184:$I$240,4,FALSE) -> 1888.72 | D26: =VLOOKUP(D7,[1]Entrada_tratamento!$C$184:$I$240,4,FALSE) -> 366.76 | E26: =VLOOKUP(E7,[1]Entrada_tratamento!$C$184:$I$240,4,FALSE) -> 1190.0824 | F26: =VLOOKUP(F7,[1]Entrada_tratamento!$C$184:$I$240,4,FALSE) -> 0 | G26: =VLOOKUP(G7,[1]Entrada_tratamento!$C$184:$I$240,4,FALSE) -> 0 | H26: =VLOOKUP(H7,[1]Entrada_tratamento!$C$184:$I$240,4,FALSE) -> 1.6 | I26: =VLOOKUP(I7,[1]Entrada_tratamento!$C$184:$I$240,4,FALSE) -> 0 | J26: =VLOOKUP(J7,[1]Entrada_tratamento!$C$184:$I$240,4,FALSE) -> 0 | ... Y26: =VLOOKUP(Y7,[1]Entrada_tratamento!$C$184:$I$240,4,FALSE) -> 0 | AA26: =SUM(C26:Y26) -> 17379.402
A27: RU recebido de outro SGRU | B27: tonelada | C27: =VLOOKUP(C7,[1]Entrada_tratamento!$C$184:$I$240,6,FALSE) -> 0 | D27: =VLOOKUP(D7,[1]Entrada_tratamento!$C$184:$I$240,6,FALSE) -> 1603.76 | E27: =VLOOKUP(E7,[1]Entrada_tratamento!$C$184:$I$240,6,FALSE) -> 0 | F27: =VLOOKUP(F7,[1]Entrada_tratamento!$C$184:$I$240,6,FALSE) -> 0 | G27: =VLOOKUP(G7,[1]Entrada_tratamento!$C$184:$I$240,6,FALSE) -> 0 | H27: =VLOOKUP(H7,[1]Entrada_tratamento!$C$184:$I$240,6,FALSE) -> 0 | I27: =VLOOKUP(I7,[1]Entrada_tratamento!$C$184:$I$240,6,FALSE) -> 0 | J27: =VLOOKUP(J7,[1]Entrada_tratamento!$C$184:$I$240,6,FALSE) -> 0 | ... Y27: =VLOOKUP(Y7,[1]Entrada_tratamento!$C$184:$I$240,6,FALSE) -> 0 | AA27: =SUM(C27:Y27) -> 22695.14
A28: RNU | B28: tonelada | C28: =VLOOKUP(C7,[1]Entrada_tratamento!$C$184:$I$240,5,FALSE) -> 0 | D28: =VLOOKUP(D7,[1]Entrada_tratamento!$C$184:$I$240,5,FALSE) -> 0 | E28: =VLOOKUP(E7,[1]Entrada_tratamento!$C$184:$I$240,5,FALSE) -> 0 | F28: =VLOOKUP(F7,[1]Entrada_tratamento!$C$184:$I$240,5,FALSE) -> 0 | G28: =VLOOKUP(G7,[1]Entrada_tratamento!$C$184:$I$240,5,FALSE) -> 0 | H28: =VLOOKUP(H7,[1]Entrada_tratamento!$C$184:$I$240,5,FALSE) -> 0 | I28: =VLOOKUP(I7,[1]Entrada_tratamento!$C$184:$I$240,5,FALSE) -> 0 | J28: =VLOOKUP(J7,[1]Entrada_tratamento!$C$184:$I$240,5,FALSE) -> 0 | ... Y28: =VLOOKUP(Y7,[1]Entrada_tratamento!$C$184:$I$240,5,FALSE) -> 0 | AA28: =SUM(C28:Y28) -> 402.02
A29: Rejeitados/Refugos/outros resíduos resultantes recebidos | B29: tonelada | C29: =VLOOKUP(C7,[1]Entrada_tratamento!$C$184:$S$240,17,FALSE)-VLOOKUP(C7,[1]Entrada_tratamento!$C$184:$S$240,9,FALSE)-VLOOKUP(C7,[1]Entrada_tratamento!$C$184:$S$240,10,FALSE) -> 148.08 | D29: =VLOOKUP(D7,[1]Entrada_tratamento!$C$184:$S$240,17,FALSE)-VLOOKUP(D7,[1]Entrada_tratamento!$C$184:$S$240,9,FALSE)-VLOOKUP(D7,[1]Entrada_tratamento!$C$184:$S$240,10,FALSE) -> 1999.15 | E29: =VLOOKUP(E7,[1]Entrada_tratamento!$C$184:$S$240,17,FALSE)-VLOOKUP(E7,[1]Entrada_tratamento!$C$184:$S$240,9,FALSE)-VLOOKUP(E7,[1]Entrada_tratamento!$C$184:$S$240,10,FALSE) -> 1317.58 | F29: =VLOOKUP(F7,[1]Entrada_tratamento!$C$184:$S$240,17,FALSE)-VLOOKUP(F7,[1]Entrada_tratamento!$C$184:$S$240,9,FALSE)-VLOOKUP(F7,[1]Entrada_tratamento!$C$184:$S$240,10,FALSE) -> 0 | G29: =VLOOKUP(G7,[1]Entrada_tratamento!$C$184:$S$240,17,FALSE)-VLOOKUP(G7,[1]Entrada_tratamento!$C$184:$S$240,9,FALSE)-VLOOKUP(G7,[1]Entrada_tratamento!$C$184:$S$240,10,FALSE) -> 0 | H29: =VLOOKUP(H7,[1]Entrada_tratamento!$C$184:$S$240,17,FALSE)-VLOOKUP(H7,[1]Entrada_tratamento!$C$184:$S$240,9,FALSE)-VLOOKUP(H7,[1]Entrada_tratamento!$C$184:$S$240,10,FALSE) -> 0 | I29: 0 | J29: =VLOOKUP(J7,[1]Entrada_tratamento!$C$184:$S$240,17,FALSE)-VLOOKUP(J7,[1]Entrada_tratamento!$C$184:$S$240,9,FALSE)-VLOOKUP(J7,[1]Entrada_tratamento!$C$184:$S$240,10,FALSE) -> 0 | K29: =VLOOKUP(K7,[1]Entrada_tratamento!$C$184:$S$240,17,FALSE)-VLOOKUP(K7,[1]Entrada_tratamento!$C$184:$S$240,9,FALSE)-VLOOKUP(K7,[1]Entrada_tratamento!$C$184:$S$240,10,FALSE) -> 0 | L29: =VLOOKUP(L7,[1]Entrada_tratamento!$C$184:$S$240,17,FALSE)-VLOOKUP(L7,[1]Entrada_tratamento!$C$184:$S$240,9,FALSE)-VLOOKUP(L7,[1]Entrada_tratamento!$C$184:$S$240,10,FALSE) -> 10333.12 | M29: =VLOOKUP(M7,[1]Entrada_tratamento!$C$184:$S$240,17,FALSE)-VLOOKUP(M7,[1]Entrada_tratamento!$C$184:$S$240,9,FALSE)-VLOOKUP(M7,[1]Entrada_tratamento!$C$184:$S$240,10,FALSE) -> 0 | N29: =VLOOKUP(N7,[1]Entrada_tratamento!$C$184:$S$240,17,FALSE)-VLOOKUP(N7,[1]Entrada_tratamento!$C$184:$S$240,9,FALSE)-VLOOKUP(N7,[1]Entrada_tratamento!$C$184:$S$240,10,FALSE) -> 990.918 | O29: =VLOOKUP(O7,[1]Entrada_tratamento!$C$184:$S$240,17,FALSE)-VLOOKUP(O7,[1]Entrada_tratamento!$C$184:$S$240,9,FALSE)-VLOOKUP(O7,[1]Entrada_tratamento!$C$184:$S$240,10,FALSE) -> 0 | P29: =VLOOKUP(P7,[1]Entrada_tratamento!$C$184:$S$240,17,FALSE)-VLOOKUP(P7,[1]Entrada_tratamento!$C$184:$S$240,9,FALSE)-VLOOKUP(P7,[1]Entrada_tratamento!$C$184:$S$240,10,FALSE) -> 0 | Q29: =VLOOKUP(Q7,[1]Entrada_tratamento!$C$184:$S$240,17,FALSE)-VLOOKUP(Q7,[1]Entrada_tratamento!$C$184:$S$240,9,FALSE)-VLOOKUP(Q7,[1]Entrada_tratamento!$C$184:$S$240,10,FALSE) -> 3638.64 | ... Y29: =VLOOKUP(Y7,[1]Entrada_tratamento!$C$184:$S$240,17,FALSE)-VLOOKUP(Y7,[1]Entrada_tratamento!$C$184:$S$240,9,FALSE)-VLOOKUP(Y7,[1]Entrada_tratamento!$C$184:$S$240,10,FALSE) -> 0 | AA29: =SUM(C29:Y29) -> 100491.5
A30: Quantidade total de RUB entrados em unidades de valorização orgânica provenientes de recolhida selectiva | B30: tonelada | C30: =SUM(C31:C35) -> 16172.086 | D30: =SUM(D31:D35) -> 0 | E30: =SUM(E31:E35) -> 0 | F30: =SUM(F31:F35) -> 0 | G30: =SUM(G31:G35) -> 0 | H30: =SUM(H31:H35) -> 0 | I30: =SUM(I31:I35) -> 0 | J30: =SUM(J31:J35) -> 0 | ... Y30: =SUM(Y31:Y35) -> 39687.415 | AA30: =SUM(C30:Y30) -> 168563.19
A31: RUB e Verdes de recolhas municipais | B31: tonelada | C31: =VLOOKUP(C7,[1]Entrada_tratamento!$C$247:$I$287,3,FALSE) -> 14328.946 | D31: =VLOOKUP(D7,[1]Entrada_tratamento!$C$247:$I$287,3,FALSE) -> 0 | E31: =VLOOKUP(E7,[1]Entrada_tratamento!$C$247:$I$287,3,FALSE) -> 0 | F31: =VLOOKUP(F7,[1]Entrada_tratamento!$C$247:$I$287,3,FALSE) -> 0 | G31: =VLOOKUP(G7,[1]Entrada_tratamento!$C$247:$I$287,3,FALSE) -> 0 | H31: =VLOOKUP(H7,[1]Entrada_tratamento!$C$247:$I$287,3,FALSE) -> 0 | I31: =VLOOKUP(I7,[1]Entrada_tratamento!$C$247:$I$287,3,FALSE) -> 0 | J31: =VLOOKUP(J7,[1]Entrada_tratamento!$C$247:$I$287,3,FALSE) -> 0 | ... Y31: =VLOOKUP(Y7,[1]Entrada_tratamento!$C$247:$I$287,3,FALSE) -> 35523.675 | AA31: =SUM(C31:Y31) -> 159185.29
A32: RU (Outros produtores de RU) | B32: tonelada | C32: =VLOOKUP(C7,[1]Entrada_tratamento!$C$247:$I$287,4,FALSE) -> 631.7 | D32: =VLOOKUP(D7,[1]Entrada_tratamento!$C$247:$I$287,4,FALSE) -> 0 | E32: =VLOOKUP(E7,[1]Entrada_tratamento!$C$247:$I$287,4,FALSE) -> 0 | F32: =VLOOKUP(F7,[1]Entrada_tratamento!$C$247:$I$287,4,FALSE) -> 0 | G32: =VLOOKUP(G7,[1]Entrada_tratamento!$C$247:$I$287,4,FALSE) -> 0 | H32: =VLOOKUP(H7,[1]Entrada_tratamento!$C$247:$I$287,4,FALSE) -> 0 | I32: =VLOOKUP(I7,[1]Entrada_tratamento!$C$247:$I$287,4,FALSE) -> 0 | J32: =VLOOKUP(J7,[1]Entrada_tratamento!$C$247:$I$287,4,FALSE) -> 0 | ... Y32: =VLOOKUP(Y7,[1]Entrada_tratamento!$C$247:$I$287,4,FALSE) -> 3425.42 | AA32: =SUM(C32:Y32) -> 7009.18
A33: RUB recebido de outro SGRU | B33: tonelada | C33: =VLOOKUP(C7,[1]Entrada_tratamento!$C$247:$I$287,6,FALSE) -> 0 | D33: =VLOOKUP(D7,[1]Entrada_tratamento!$C$247:$I$287,6,FALSE) -> 0 | E33: =VLOOKUP(E7,[1]Entrada_tratamento!$C$247:$I$287,6,FALSE) -> 0 | F33: =VLOOKUP(F7,[1]Entrada_tratamento!$C$247:$I$287,6,FALSE) -> 0 | G33: =VLOOKUP(G7,[1]Entrada_tratamento!$C$247:$I$287,6,FALSE) -> 0 | H33: =VLOOKUP(H7,[1]Entrada_tratamento!$C$247:$I$287,6,FALSE) -> 0 | I33: =VLOOKUP(I7,[1]Entrada_tratamento!$C$247:$I$287,6,FALSE) -> 0 | J33: =VLOOKUP(J7,[1]Entrada_tratamento!$C$247:$I$287,6,FALSE) -> 0 | ... Y33: =VLOOKUP(Y7,[1]Entrada_tratamento!$C$247:$I$287,6,FALSE) -> 729.2 | AA33: =SUM(C33:Y33) -> 752.67
A34: RNU | B34: tonelada | C34: =VLOOKUP(C7,[1]Entrada_tratamento!$C$247:$I$287,5,FALSE) -> 1211.44 | D34: =VLOOKUP(D7,[1]Entrada_tratamento!$C$247:$I$287,5,FALSE) -> 0 | E34: =VLOOKUP(E7,[1]Entrada_tratamento!$C$247:$I$287,5,FALSE) -> 0 | F34: =VLOOKUP(F7,[1]Entrada_tratamento!$C$247:$I$287,5,FALSE) -> 0 | G34: =VLOOKUP(G7,[1]Entrada_tratamento!$C$247:$I$287,5,FALSE) -> 0 | H34: =VLOOKUP(H7,[1]Entrada_tratamento!$C$247:$I$287,5,FALSE) -> 0 | I34: =VLOOKUP(I7,[1]Entrada_tratamento!$C$247:$I$287,5,FALSE) -> 0 | J34: =VLOOKUP(J7,[1]Entrada_tratamento!$C$247:$I$287,5,FALSE) -> 0 | ... Y34: =VLOOKUP(Y7,[1]Entrada_tratamento!$C$247:$I$287,5,FALSE) -> 9.12 | AA34: =SUM(C34:Y34) -> 1616.05
A35: Rejeitados/Refugos/outros resíduos resultantes recebidos | B35: tonelada | C35: =VLOOKUP(C7,[1]Entrada_tratamento!$C$247:$S$287,17,FALSE) -> 0 | D35: =VLOOKUP(D7,[1]Entrada_tratamento!$C$247:$S$287,17,FALSE) -> 0 | E35: =VLOOKUP(E7,[1]Entrada_tratamento!$C$247:$S$287,17,FALSE) -> 0 | F35: =VLOOKUP(F7,[1]Entrada_tratamento!$C$247:$S$287,17,FALSE) -> 0 | G35: =VLOOKUP(G7,[1]Entrada_tratamento!$C$247:$S$287,17,FALSE) -> 0 | H35: =VLOOKUP(H7,[1]Entrada_tratamento!$C$247:$S$287,17,FALSE) -> 0 | I35: =VLOOKUP(I7,[1]Entrada_tratamento!$C$247:$S$287,17,FALSE) -> 0 | J35: =VLOOKUP(J7,[1]Entrada_tratamento!$C$247:$S$287,17,FALSE) -> 0 | ... Y35: =VLOOKUP(Y7,[1]Entrada_tratamento!$C$247:$S$287,17,FALSE) -> 0 | AA35: =SUM(C35:Y35) -> 0
A36: Quantidade total de resíduos que deram entrada em centrais de incineração | B36: tonelada | C36: =SUM(C37:C41) -> 0 | D36: =SUM(D37:D41) -> 0 | E36: =SUM(E37:E41) -> 0 | F36: =SUM(F37:F41) -> 0 | G36: =SUM(G37:G41) -> 0 | H36: =SUM(H37:H41) -> 0 | I36: =SUM(I37:I41) -> 0 | J36: =SUM(J37:J41) -> 0 | ... Y36: =SUM(Y37:Y41) -> 650599.61 | AA36: =SUM(C36:Y36) -> 1038101.7
A37: Resíduos Urbanos recolhas municipais | B37: tonelada | C37: =VLOOKUP(C7,[1]Entrada_tratamento!$C$93:$I$127,2,FALSE)+VLOOKUP(C7,[1]Entrada_tratamento!$C$93:$I$127,3,FALSE) -> 0 | D37: =VLOOKUP(D7,[1]Entrada_tratamento!$C$93:$I$127,2,FALSE)+VLOOKUP(D7,[1]Entrada_tratamento!$C$93:$I$127,3,FALSE) -> 0 | E37: =VLOOKUP(E7,[1]Entrada_tratamento!$C$93:$I$127,2,FALSE)+VLOOKUP(E7,[1]Entrada_tratamento!$C$93:$I$127,3,FALSE) -> 0 | F37: =VLOOKUP(F7,[1]Entrada_tratamento!$C$93:$I$127,2,FALSE)+VLOOKUP(F7,[1]Entrada_tratamento!$C$93:$I$127,3,FALSE) -> 0 | G37: =VLOOKUP(G7,[1]Entrada_tratamento!$C$93:$I$127,2,FALSE)+VLOOKUP(G7,[1]Entrada_tratamento!$C$93:$I$127,3,FALSE) -> 0 | H37: =VLOOKUP(H7,[1]Entrada_tratamento!$C$93:$I$127,2,FALSE)+VLOOKUP(H7,[1]Entrada_tratamento!$C$93:$I$127,3,FALSE) -> 0 | I37: =VLOOKUP(I7,[1]Entrada_tratamento!$C$93:$I$127,2,FALSE)+VLOOKUP(I7,[1]Entrada_tratamento!$C$93:$I$127,3,FALSE) -> 0 | J37: =VLOOKUP(J7,[1]Entrada_tratamento!$C$93:$I$127,2,FALSE)+VLOOKUP(J7,[1]Entrada_tratamento!$C$93:$I$127,3,FALSE) -> 0 | ... Y37: =VLOOKUP(Y7,[1]Entrada_tratamento!$C$93:$I$127,2,FALSE)+VLOOKUP(Y7,[1]Entrada_tratamento!$C$93:$I$127,3,FALSE) -> 610753.53 | AA37: =SUM(C37:Y37) -> 984565.28
A38: RU (Outros produtores de RU) | B38: tonelada | C38: =VLOOKUP(C7,[1]Entrada_tratamento!$C$93:$I$127,4,FALSE) -> 0 | D38: =VLOOKUP(D7,[1]Entrada_tratamento!$C$93:$I$127,4,FALSE) -> 0 | E38: =VLOOKUP(E7,[1]Entrada_tratamento!$C$93:$I$127,4,FALSE) -> 0 | F38: =VLOOKUP(F7,[1]Entrada_tratamento!$C$93:$I$127,4,FALSE) -> 0 | G38: =VLOOKUP(G7,[1]Entrada_tratamento!$C$93:$I$127,4,FALSE) -> 0 | H38: =VLOOKUP(H7,[1]Entrada_tratamento!$C$93:$I$127,4,FALSE) -> 0 | I38: =VLOOKUP(I7,[1]Entrada_tratamento!$C$93:$I$127,4,FALSE) -> 0 | J38: =VLOOKUP(J7,[1]Entrada_tratamento!$C$93:$I$127,4,FALSE) -> 0 | ... Y38: =VLOOKUP(Y7,[1]Entrada_tratamento!$C$93:$I$127,4,FALSE) -> 3065.62 | AA38: =SUM(C38:Y38) -> 3621.28
A39: RU recebido de outro SGRU | B39: tonelada | C39: =VLOOKUP(C7,[1]Entrada_tratamento!$C$93:$I$127,6,FALSE) -> 0 | D39: =VLOOKUP(D7,[1]Entrada_tratamento!$C$93:$I$127,6,FALSE) -> 0 | E39: =VLOOKUP(E7,[1]Entrada_tratamento!$C$93:$I$127,6,FALSE) -> 0 | F39: =VLOOKUP(F7,[1]Entrada_tratamento!$C$93:$I$127,6,FALSE) -> 0 | G39: =VLOOKUP(G7,[1]Entrada_tratamento!$C$93:$I$127,6,FALSE) -> 0 | H39: =VLOOKUP(H7,[1]Entrada_tratamento!$C$93:$I$127,6,FALSE) -> 0 | I39: =VLOOKUP(I7,[1]Entrada_tratamento!$C$93:$I$127,6,FALSE) -> 0 | J39: =VLOOKUP(J7,[1]Entrada_tratamento!$C$93:$I$127,6,FALSE) -> 0 | ... Y39: =VLOOKUP(Y7,[1]Entrada_tratamento!$C$93:$I$127,6,FALSE) -> 6640.02 | AA39: =SUM(C39:Y39) -> 6640.02
A40: RNU | B40: tonelada | C40: =VLOOKUP(C7,[1]Entrada_tratamento!$C$93:$I$127,5,FALSE) -> 0 | D40: =VLOOKUP(D7,[1]Entrada_tratamento!$C$93:$I$127,5,FALSE) -> 0 | E40: =VLOOKUP(E7,[1]Entrada_tratamento!$C$93:$I$127,5,FALSE) -> 0 | F40: =VLOOKUP(F7,[1]Entrada_tratamento!$C$93:$I$127,5,FALSE) -> 0 | G40: =VLOOKUP(G7,[1]Entrada_tratamento!$C$93:$I$127,5,FALSE) -> 0 | H40: =VLOOKUP(H7,[1]Entrada_tratamento!$C$93:$I$127,5,FALSE) -> 0 | I40: =VLOOKUP(I7,[1]Entrada_tratamento!$C$93:$I$127,5,FALSE) -> 0 | J40: =VLOOKUP(J7,[1]Entrada_tratamento!$C$93:$I$127,5,FALSE) -> 0 | ... Y40: =VLOOKUP(Y7,[1]Entrada_tratamento!$C$93:$I$127,5,FALSE) -> 1200.82 | AA40: =SUM(C40:Y40) -> 2870.74
A41: Rejeitados/Refugos/outros resíduos resultantes recebidos | B41: tonelada | C41: =VLOOKUP(C7,[1]Entrada_tratamento!$C$93:$S$127,17,FALSE) -> 0 | D41: =VLOOKUP(D7,[1]Entrada_tratamento!$C$93:$S$127,17,FALSE) -> 0 | E41: =VLOOKUP(E7,[1]Entrada_tratamento!$C$93:$S$127,17,FALSE) -> 0 | F41: =VLOOKUP(F7,[1]Entrada_tratamento!$C$93:$S$127,17,FALSE) -> 0 | G41: =VLOOKUP(G7,[1]Entrada_tratamento!$C$93:$S$127,17,FALSE) -> 0 | H41: =VLOOKUP(H7,[1]Entrada_tratamento!$C$93:$S$127,17,FALSE) -> 0 | I41: =VLOOKUP(I7,[1]Entrada_tratamento!$C$93:$S$127,17,FALSE) -> 0 | J41: =VLOOKUP(J7,[1]Entrada_tratamento!$C$93:$S$127,17,FALSE) -> 0 | ... Y41: =VLOOKUP(Y7,[1]Entrada_tratamento!$C$93:$S$127,17,FALSE) -> 28939.62 | AA41: =SUM(C41:Y41) -> 40404.42
A42: Quantidade total de resíduos que deram entrada em unidades de TM | B42: tonelada | C42: =SUM(C43:C47) -> 0 | D42: =SUM(D43:D47) -> 0 | E42: =SUM(E43:E47) -> 0 | F42: =SUM(F43:F47) -> 0 | G42: =SUM(G43:G47) -> 0 | H42: =SUM(H43:H47) -> 0 | I42: =SUM(I43:I47) -> 0 | J42: =SUM(J43:J47) -> 0 | ... Y42: =SUM(Y43:Y47) -> 0 | AA42: =SUM(C42:Y42) -> 333766.7
A43: Resíduos Urbanos recolhas municipais | B43: tonelada | C43: =VLOOKUP(C7,[1]Entrada_tratamento!$C$135:$I$177,2,FALSE)+VLOOKUP(C7,[1]Entrada_tratamento!$C$135:$I$177,3,FALSE) -> 0 | D43: =VLOOKUP(D7,[1]Entrada_tratamento!$C$135:$I$177,2,FALSE)+VLOOKUP(D7,[1]Entrada_tratamento!$C$135:$I$177,3,FALSE) -> 0 | E43: =VLOOKUP(E7,[1]Entrada_tratamento!$C$135:$I$177,2,FALSE)+VLOOKUP(E7,[1]Entrada_tratamento!$C$135:$I$177,3,FALSE) -> 0 | F43: =VLOOKUP(F7,[1]Entrada_tratamento!$C$135:$I$177,2,FALSE)+VLOOKUP(F7,[1]Entrada_tratamento!$C$135:$I$177,3,FALSE) -> 0 | G43: =VLOOKUP(G7,[1]Entrada_tratamento!$C$135:$I$177,2,FALSE)+VLOOKUP(G7,[1]Entrada_tratamento!$C$135:$I$177,3,FALSE) -> 0 | H43: =VLOOKUP(H7,[1]Entrada_tratamento!$C$135:$I$177,2,FALSE)+VLOOKUP(H7,[1]Entrada_tratamento!$C$135:$I$177,3,FALSE) -> 0 | I43: 0 | J43: =VLOOKUP(J7,[1]Entrada_tratamento!$C$135:$I$177,2,FALSE)+VLOOKUP(J7,[1]Entrada_tratamento!$C$135:$I$177,3,FALSE) -> 0 | K43: =VLOOKUP(K7,[1]Entrada_tratamento!$C$135:$I$177,2,FALSE)+VLOOKUP(K7,[1]Entrada_tratamento!$C$135:$I$177,3,FALSE) -> 0 | L43: =VLOOKUP(L7,[1]Entrada_tratamento!$C$135:$I$177,2,FALSE)+VLOOKUP(L7,[1]Entrada_tratamento!$C$135:$I$177,3,FALSE) -> 0 | M43: =VLOOKUP(M7,[1]Entrada_tratamento!$C$135:$I$177,2,FALSE)+VLOOKUP(M7,[1]Entrada_tratamento!$C$135:$I$177,3,FALSE) -> 0 | N43: =VLOOKUP(N7,[1]Entrada_tratamento!$C$135:$I$177,2,FALSE)+VLOOKUP(N7,[1]Entrada_tratamento!$C$135:$I$177,3,FALSE) -> 0 | O43: =VLOOKUP(O7,[1]Entrada_tratamento!$C$135:$I$177,2,FALSE)+VLOOKUP(O7,[1]Entrada_tratamento!$C$135:$I$177,3,FALSE) -> 0 | P43: =VLOOKUP(P7,[1]Entrada_tratamento!$C$135:$I$177,2,FALSE)+VLOOKUP(P7,[1]Entrada_tratamento!$C$135:$I$177,3,FALSE) -> 0 | Q43: =VLOOKUP(Q7,[1]Entrada_tratamento!$C$135:$I$177,2,FALSE)+VLOOKUP(Q7,[1]Entrada_tratamento!$C$135:$I$177,3,FALSE) -> 7804.119 | ... Y43: =VLOOKUP(Y7,[1]Entrada_tratamento!$C$135:$I$177,2,FALSE)+VLOOKUP(Y7,[1]Entrada_tratamento!$C$135:$I$177,3,FALSE) -> 0 | AA43: =SUM(C43:Y43) -> 329690.56
A44: RU (Outros produtores de RU) | B44: tonelada | C44: =VLOOKUP(C7,[1]Entrada_tratamento!$C$135:$I$177,4,FALSE) -> 0 | D44: =VLOOKUP(D7,[1]Entrada_tratamento!$C$135:$I$177,4,FALSE) -> 0 | E44: =VLOOKUP(E7,[1]Entrada_tratamento!$C$135:$I$177,4,FALSE) -> 0 | F44: =VLOOKUP(F7,[1]Entrada_tratamento!$C$135:$I$177,4,FALSE) -> 0 | G44: =VLOOKUP(G7,[1]Entrada_tratamento!$C$135:$I$177,4,FALSE) -> 0 | H44: =VLOOKUP(H7,[1]Entrada_tratamento!$C$135:$I$177,4,FALSE) -> 0 | I44: =VLOOKUP(I7,[1]Entrada_tratamento!$C$135:$I$177,4,FALSE) -> 0 | J44: =VLOOKUP(J7,[1]Entrada_tratamento!$C$135:$I$177,4,FALSE) -> 0 | ... Y44: =VLOOKUP(Y7,[1]Entrada_tratamento!$C$135:$I$177,4,FALSE) -> 0 | AA44: =SUM(C44:Y44) -> 738.4
A45: RU recebido de outro SGRU | B45: tonelada | C45: =VLOOKUP(C7,[1]Entrada_tratamento!$C$135:$I$177,6,FALSE) -> 0 | D45: =VLOOKUP(D7,[1]Entrada_tratamento!$C$135:$I$177,6,FALSE) -> 0 | E45: =VLOOKUP(E7,[1]Entrada_tratamento!$C$135:$I$177,6,FALSE) -> 0 | F45: =VLOOKUP(F7,[1]Entrada_tratamento!$C$135:$I$177,6,FALSE) -> 0 | G45: =VLOOKUP(G7,[1]Entrada_tratamento!$C$135:$I$177,6,FALSE) -> 0 | H45: =VLOOKUP(H7,[1]Entrada_tratamento!$C$135:$I$177,6,FALSE) -> 0 | I45: =VLOOKUP(I7,[1]Entrada_tratamento!$C$135:$I$177,6,FALSE) -> 0 | J45: =VLOOKUP(J7,[1]Entrada_tratamento!$C$135:$I$177,6,FALSE) -> 0 | ... Y45: =VLOOKUP(Y7,[1]Entrada_tratamento!$C$135:$I$177,6,FALSE) -> 0 | AA45: =SUM(C45:Y45) -> 0
A46: RNU | B46: tonelada | C46: =VLOOKUP(C7,[1]Entrada_tratamento!$C$135:$I$177,5,FALSE) -> 0 | D46: =VLOOKUP(D7,[1]Entrada_tratamento!$C$135:$I$177,5,FALSE) -> 0 | E46: =VLOOKUP(E7,[1]Entrada_tratamento!$C$135:$I$177,5,FALSE) -> 0 | F46: =VLOOKUP(F7,[1]Entrada_tratamento!$C$135:$I$177,5,FALSE) -> 0 | G46: =VLOOKUP(G7,[1]Entrada_tratamento!$C$135:$I$177,5,FALSE) -> 0 | H46: =VLOOKUP(H7,[1]Entrada_tratamento!$C$135:$I$177,5,FALSE) -> 0 | I46: =VLOOKUP(I7,[1]Entrada_tratamento!$C$135:$I$177,5,FALSE) -> 0 | J46: =VLOOKUP(J7,[1]Entrada_tratamento!$C$135:$I$177,5,FALSE) -> 0 | ... Y46: =VLOOKUP(Y7,[1]Entrada_tratamento!$C$135:$I$177,5,FALSE) -> 0 | AA46: =SUM(C46:Y46) -> 0
A47: Rejeitados/Refugos/outros resíduos resultantes recebidos | B47: tonelada | C47: =VLOOKUP(C7,[1]Entrada_tratamento!$C$135:$S$177,17,FALSE) -> 0 | D47: =VLOOKUP(D7,[1]Entrada_tratamento!$C$135:$S$177,17,FALSE) -> 0 | E47: =VLOOKUP(E7,[1]Entrada_tratamento!$C$135:$S$177,17,FALSE) -> 0 | F47: =VLOOKUP(F7,[1]Entrada_tratamento!$C$135:$S$177,17,FALSE) -> 0 | G47: =VLOOKUP(G7,[1]Entrada_tratamento!$C$135:$S$177,17,FALSE) -> 0 | H47: =VLOOKUP(H7,[1]Entrada_tratamento!$C$135:$S$177,17,FALSE) -> 0 | I47: 0 | J47: =VLOOKUP(J7,[1]Entrada_tratamento!$C$135:$S$177,17,FALSE) -> 0 | K47: =VLOOKUP(K7,[1]Entrada_tratamento!$C$135:$S$177,17,FALSE) -> 0 | L47: =VLOOKUP(L7,[1]Entrada_tratamento!$C$135:$S$177,17,FALSE) -> 0 | M47: =VLOOKUP(M7,[1]Entrada_tratamento!$C$135:$S$177,17,FALSE) -> 0 | N47: =VLOOKUP(N7,[1]Entrada_tratamento!$C$135:$S$177,17,FALSE) -> 0 | O47: =VLOOKUP(O7,[1]Entrada_tratamento!$C$135:$S$177,17,FALSE) -> 0 | P47: =VLOOKUP(P7,[1]Entrada_tratamento!$C$135:$S$177,17,FALSE) -> 0 | Q47: =VLOOKUP(Q7,[1]Entrada_tratamento!$C$135:$S$177,17,FALSE) -> 3337.74 | R47: =VLOOKUP(R7,[1]Entrada_tratamento!$C$135:$S$177,17,FALSE) -> 0 | S47: =VLOOKUP(S7,[1]Entrada_tratamento!$C$135:$S$177,17,FALSE)-VLOOKUP(S7,[1]Entrada_tratamento!$C$135:$S$177,9,FALSE) -> 0 | T47: =VLOOKUP(T7,[1]Entrada_tratamento!$C$135:$S$177,17,FALSE) -> 0 | U47: =+VLOOKUP(U7,[1]Entrada_tratamento!$C$135:$S$177,17,FALSE) -> 0 | V47: =VLOOKUP(V7,[1]Entrada_tratamento!$C$135:$S$177,17,FALSE) -> 0 | W47: =VLOOKUP(W7,[1]Entrada_tratamento!$C$135:$S$177,17,FALSE) -> 0 | X47: =VLOOKUP(X7,[1]Entrada_tratamento!$C$135:$S$177,17,FALSE) -> 0 | Y47: =VLOOKUP(Y7,[1]Entrada_tratamento!$C$135:$S$177,17,FALSE) -> 0 | AA47: =SUM(C47:Y47) -> 3337.74
A48: Quantidade total de resíduos que deram entrada em unidades de triagem | B48: tonelada | C48: =SUM(C49:C53) -> 45389.376 | D48: =SUM(D49:D53) -> 16358.77 | E48: =SUM(E49:E53) -> 6563.3 | F48: =SUM(F49:F53) -> 9097.64 | G48: =SUM(G49:G53) -> 1203.5 | H48: =SUM(H49:H53) -> 12227.143 | I48: =SUM(I49:I53) -> 12822.5 | J48: =SUM(J49:J53) -> 0 | ... Y48: =SUM(Y49:Y53) -> 79809.06 | AA48: =SUM(C48:Y48) -> 393552.38
A49: Resíduos Urbanos recolhas municipais | B49: tonelada | C49: =VLOOKUP(C7,[1]Entrada_tratamento!$C$296:$I$320,3,FALSE) -> 45389.376 | D49: =VLOOKUP(D7,[1]Entrada_tratamento!$C$296:$I$320,3,FALSE) -> 15780.71 | E49: =VLOOKUP(E7,[1]Entrada_tratamento!$C$296:$I$320,3,FALSE) -> 6555.3 | F49: =VLOOKUP(F7,[1]Entrada_tratamento!$C$296:$I$320,3,FALSE) -> 9097.64 | G49: =VLOOKUP(G7,[1]Entrada_tratamento!$C$296:$I$320,3,FALSE) -> 1147.02 | H49: =VLOOKUP(H7,[1]Entrada_tratamento!$C$296:$I$320,3,FALSE) -> 12116.263 | I49: =VLOOKUP(I7,[1]Entrada_tratamento!$C$296:$I$320,3,FALSE) -> 9050.4 | J49: =VLOOKUP(J7,[1]Entrada_tratamento!$C$296:$I$320,3,FALSE) -> 0 | ... Y49: =VLOOKUP(Y7,[1]Entrada_tratamento!$C$296:$I$320,3,FALSE) -> 78766.82 | AA49: =SUM(C49:Y49) -> 378326.25
A50: RU (Outros produtores de RU) | B50: tonelada | C50: =VLOOKUP(C7,[1]Entrada_tratamento!$C$296:$I$320,4,FALSE) -> 0 | D50: =VLOOKUP(D7,[1]Entrada_tratamento!$C$296:$I$320,4,FALSE) -> 88.1 | E50: =VLOOKUP(E7,[1]Entrada_tratamento!$C$296:$I$320,4,FALSE) -> 0 | F50: =VLOOKUP(F7,[1]Entrada_tratamento!$C$296:$I$320,4,FALSE) -> 0 | G50: =VLOOKUP(G7,[1]Entrada_tratamento!$C$296:$I$320,4,FALSE) -> 56.48 | H50: =VLOOKUP(H7,[1]Entrada_tratamento!$C$296:$I$320,4,FALSE) -> 110.88 | I50: =VLOOKUP(I7,[1]Entrada_tratamento!$C$296:$I$320,4,FALSE) -> 0 | J50: =VLOOKUP(J7,[1]Entrada_tratamento!$C$296:$I$320,4,FALSE) -> 0 | ... Y50: =VLOOKUP(Y7,[1]Entrada_tratamento!$C$296:$I$320,4,FALSE) -> 588.54 | AA50: =SUM(C50:Y50) -> 2661.3845
A51: RNU | B51: tonelada | C51: =VLOOKUP(C7,[1]Entrada_tratamento!$C$296:$I$320,5,FALSE) -> 0 | D51: =VLOOKUP(D7,[1]Entrada_tratamento!$C$296:$I$320,5,FALSE) -> 0 | E51: =VLOOKUP(E7,[1]Entrada_tratamento!$C$296:$I$320,5,FALSE) -> 0 | F51: =VLOOKUP(F7,[1]Entrada_tratamento!$C$296:$I$320,5,FALSE) -> 0 | G51: =VLOOKUP(G7,[1]Entrada_tratamento!$C$296:$I$320,5,FALSE) -> 0 | H51: =VLOOKUP(H7,[1]Entrada_tratamento!$C$296:$I$320,5,FALSE) -> 0 | I51: =VLOOKUP(I7,[1]Entrada_tratamento!$C$296:$I$320,5,FALSE) -> 0 | J51: =VLOOKUP(J7,[1]Entrada_tratamento!$C$296:$I$320,5,FALSE) -> 0 | ... Y51: =VLOOKUP(Y7,[1]Entrada_tratamento!$C$296:$I$320,5,FALSE) -> 0 | AA51: =SUM(C51:Y51) -> 0
A52: RU recebido de outro SGRU | B52: tonelada | C52: =VLOOKUP(C7,[1]Entrada_tratamento!$C$296:$I$320,6,FALSE) -> 0 | D52: =VLOOKUP(D7,[1]Entrada_tratamento!$C$296:$I$320,6,FALSE) -> 0 | E52: =VLOOKUP(E7,[1]Entrada_tratamento!$C$296:$I$320,6,FALSE) -> 0 | F52: =VLOOKUP(F7,[1]Entrada_tratamento!$C$296:$I$320,6,FALSE) -> 0 | G52: =VLOOKUP(G7,[1]Entrada_tratamento!$C$296:$I$320,6,FALSE) -> 0 | H52: =VLOOKUP(H7,[1]Entrada_tratamento!$C$296:$I$320,6,FALSE) -> 0 | I52: =VLOOKUP(I7,[1]Entrada_tratamento!$C$296:$I$320,6,FALSE) -> 0 | J52: =VLOOKUP(J7,[1]Entrada_tratamento!$C$296:$I$320,6,FALSE) -> 0 | ... Y52: =VLOOKUP(Y7,[1]Entrada_tratamento!$C$296:$I$320,6,FALSE) -> 97.7 | AA52: =SUM(C52:Y52) -> 97.7
A53: Rejeitados/Refugos/outros resíduos resultantes recebidos | B53: tonelada | C53: =VLOOKUP(C7,[1]Entrada_tratamento!$C$296:$S$320,17,FALSE) -> 0 | D53: =VLOOKUP(D7,[1]Entrada_tratamento!$C$296:$S$320,17,FALSE) -> 489.96 | E53: =VLOOKUP(E7,[1]Entrada_tratamento!$C$296:$S$320,17,FALSE) -> 8 | F53: =VLOOKUP(F7,[1]Entrada_tratamento!$C$296:$S$320,17,FALSE) -> 0 | G53: =VLOOKUP(G7,[1]Entrada_tratamento!$C$296:$S$320,17,FALSE) -> 0 | H53: =VLOOKUP(H7,[1]Entrada_tratamento!$C$296:$S$320,17,FALSE) -> 0 | I53: =VLOOKUP(I7,[1]Entrada_tratamento!$C$296:$S$320,17,FALSE) -> 3772.1 | J53: =VLOOKUP(J7,[1]Entrada_tratamento!$C$296:$S$320,17,FALSE) -> 0 | ... Y53: =VLOOKUP(Y7,[1]Entrada_tratamento!$C$296:$S$320,17,FALSE) -> 356 | AA53: =SUM(C53:Y53) -> 12467.04
A54: Quantidade total de resíduos que deram entrada em plataformas de recicláveis | B54: tonelada | C54: =SUM(C55:C59) -> 43907.483 | D54: =SUM(D55:D59) -> 98692.978 | E54: =SUM(E55:E59) -> 3180.0646 | F54: =SUM(F55:F59) -> 6380.65 | G54: =SUM(G55:G59) -> 1075.29 | H54: =SUM(H55:H59) -> 8156.243 | I54: =SUM(I55:I59) -> 8238.842 | J54: =SUM(J55:J59) -> 7781 | ... Y54: =SUM(Y55:Y59) -> 62378.037 | AA54: =SUM(C54:Y54) -> 562584.49
A55: Resíduos Urbanos recolhas municipais | B55: tonelada | C55: =VLOOKUP(C7,[1]Entrada_tratamento!$C$327:$I$351,2,FALSE)+VLOOKUP(C7,[1]Entrada_tratamento!$C$327:$I$351,3,FALSE) -> 43202.763 | D55: =VLOOKUP(D7,[1]Entrada_tratamento!$C$327:$I$351,2,FALSE)+VLOOKUP(D7,[1]Entrada_tratamento!$C$327:$I$351,3,FALSE) -> 98314.808 | E55: =VLOOKUP(E7,[1]Entrada_tratamento!$C$327:$I$351,2,FALSE)+VLOOKUP(E7,[1]Entrada_tratamento!$C$327:$I$351,3,FALSE) -> 2917.4046 | F55: =VLOOKUP(F7,[1]Entrada_tratamento!$C$327:$I$351,2,FALSE)+VLOOKUP(F7,[1]Entrada_tratamento!$C$327:$I$351,3,FALSE) -> 6380.65 | G55: =VLOOKUP(G7,[1]Entrada_tratamento!$C$327:$I$351,2,FALSE)+VLOOKUP(G7,[1]Entrada_tratamento!$C$327:$I$351,3,FALSE) -> 1032.64 | H55: =VLOOKUP(H7,[1]Entrada_tratamento!$C$327:$I$351,2,FALSE)+VLOOKUP(H7,[1]Entrada_tratamento!$C$327:$I$351,3,FALSE) -> 7800.763 | I55: =VLOOKUP(I7,[1]Entrada_tratamento!$C$327:$I$351,2,FALSE)+VLOOKUP(I7,[1]Entrada_tratamento!$C$327:$I$351,3,FALSE) -> 8238.842 | J55: =VLOOKUP(J7,[1]Entrada_tratamento!$C$327:$I$351,2,FALSE)+VLOOKUP(J7,[1]Entrada_tratamento!$C$327:$I$351,3,FALSE) -> 7777.42 | ... Y55: =VLOOKUP(Y7,[1]Entrada_tratamento!$C$327:$I$351,2,FALSE)+VLOOKUP(Y7,[1]Entrada_tratamento!$C$327:$I$351,3,FALSE) -> 62179.069 | AA55: =SUM(C55:Y55) -> 558115.89
A56: RU (Outros produtores de RU) | B56: tonelada | C56: =VLOOKUP(C7,[1]Entrada_tratamento!$C$327:$I$351,4,FALSE) -> 704.72 | D56: =VLOOKUP(D7,[1]Entrada_tratamento!$C$327:$I$351,4,FALSE) -> 352.97 | E56: =VLOOKUP(E7,[1]Entrada_tratamento!$C$327:$I$351,4,FALSE) -> 29.56 | F56: =VLOOKUP(F7,[1]Entrada_tratamento!$C$327:$I$351,4,FALSE) -> 0 | G56: =VLOOKUP(G7,[1]Entrada_tratamento!$C$327:$I$351,4,FALSE) -> 16.72 | H56: =VLOOKUP(H7,[1]Entrada_tratamento!$C$327:$I$351,4,FALSE) -> 12.34 | I56: =VLOOKUP(I7,[1]Entrada_tratamento!$C$327:$I$351,4,FALSE) -> 0 | J56: =VLOOKUP(J7,[1]Entrada_tratamento!$C$327:$I$351,4,FALSE) -> 0 | ... Y56: =VLOOKUP(Y7,[1]Entrada_tratamento!$C$327:$I$351,4,FALSE) -> 198.968 | AA56: =SUM(C56:Y56) -> 2776.218
A57: RNU | B57: tonelada | C57: =VLOOKUP(C7,[1]Entrada_tratamento!$C$327:$I$351,5,FALSE) -> 0 | D57: =VLOOKUP(D7,[1]Entrada_tratamento!$C$327:$I$351,5,FALSE) -> 0 | E57: =VLOOKUP(E7,[1]Entrada_tratamento!$C$327:$I$351,5,FALSE) -> 0 | F57: =VLOOKUP(F7,[1]Entrada_tratamento!$C$327:$I$351,5,FALSE) -> 0 | G57: =VLOOKUP(G7,[1]Entrada_tratamento!$C$327:$I$351,5,FALSE) -> 0 | H57: =VLOOKUP(H7,[1]Entrada_tratamento!$C$327:$I$351,5,FALSE) -> 178.58 | I57: =VLOOKUP(I7,[1]Entrada_tratamento!$C$327:$I$351,5,FALSE) -> 0 | J57: =VLOOKUP(J7,[1]Entrada_tratamento!$C$327:$I$351,5,FALSE) -> 3.58 | ... Y57: =VLOOKUP(Y7,[1]Entrada_tratamento!$C$327:$I$351,5,FALSE) -> 0 | AA57: =SUM(C57:Y57) -> 199.72
A58: RU recebido de outro SGRU | B58: tonelada | C58: =VLOOKUP(C7,[1]Entrada_tratamento!$C$327:$I$351,6,FALSE) -> 0 | D58: =VLOOKUP(D7,[1]Entrada_tratamento!$C$327:$I$351,6,FALSE) -> 0 | E58: =VLOOKUP(E7,[1]Entrada_tratamento!$C$327:$I$351,6,FALSE) -> 0 | F58: =VLOOKUP(F7,[1]Entrada_tratamento!$C$327:$I$351,6,FALSE) -> 0 | G58: =VLOOKUP(G7,[1]Entrada_tratamento!$C$327:$I$351,6,FALSE) -> 0 | H58: =VLOOKUP(H7,[1]Entrada_tratamento!$C$327:$I$351,6,FALSE) -> 0 | I58: =VLOOKUP(I7,[1]Entrada_tratamento!$C$327:$I$351,6,FALSE) -> 0 | J58: =VLOOKUP(J7,[1]Entrada_tratamento!$C$327:$I$351,6,FALSE) -> 0 | ... Y58: =VLOOKUP(Y7,[1]Entrada_tratamento!$C$327:$I$351,6,FALSE) -> 0 | AA58: =SUM(C58:Y58) -> 0
A59: Rejeitados/Refugos/outros resíduos resultantes recebidos | B59: tonelada | C59: =VLOOKUP(C7,[1]Entrada_tratamento!$C$327:$S$351,17,FALSE) -> 0 | D59: =VLOOKUP(D7,[1]Entrada_tratamento!$C$327:$S$351,17,FALSE) -> 25.2 | E59: =VLOOKUP(E7,[1]Entrada_tratamento!$C$327:$S$351,17,FALSE) -> 233.1 | F59: =VLOOKUP(F7,[1]Entrada_tratamento!$C$327:$S$351,17,FALSE) -> 0 | G59: =VLOOKUP(G7,[1]Entrada_tratamento!$C$327:$S$351,17,FALSE) -> 25.93 | H59: =VLOOKUP(H7,[1]Entrada_tratamento!$C$327:$S$351,17,FALSE) -> 164.56 | I59: =VLOOKUP(I7,[1]Entrada_tratamento!$C$327:$S$351,17,FALSE) -> 0 | J59: =VLOOKUP(J7,[1]Entrada_tratamento!$C$327:$S$351,17,FALSE) -> 0 | ... Y59: =VLOOKUP(Y7,[1]Entrada_tratamento!$C$327:$S$351,17,FALSE) -> 0 | AA59: =SUM(C59:Y59) -> 1492.665
A60: Quantidade total de resíduos resultantes do processo de incineração que são retomados para reciclagem | B60: tonelada | C60: =VLOOKUP(C7,[1]Entrada_tratamento!$C$93:$AL$127,36,FALSE)+VLOOKUP(C7,[1]Entrada_tratamento!$C$358:$AC$382,17,FALSE) -> 0 | D60: =VLOOKUP(D7,[1]Entrada_tratamento!$C$93:$AL$127,36,FALSE)+VLOOKUP(D7,[1]Entrada_tratamento!$C$358:$AC$382,17,FALSE) -> 0 | E60: =VLOOKUP(E7,[1]Entrada_tratamento!$C$93:$AL$127,36,FALSE)+VLOOKUP(E7,[1]Entrada_tratamento!$C$358:$AC$382,17,FALSE) -> 0 | F60: =VLOOKUP(F7,[1]Entrada_tratamento!$C$93:$AL$127,36,FALSE)+VLOOKUP(F7,[1]Entrada_tratamento!$C$358:$AC$382,17,FALSE) -> 0 | G60: =VLOOKUP(G7,[1]Entrada_tratamento!$C$93:$AL$127,36,FALSE)+VLOOKUP(G7,[1]Entrada_tratamento!$C$358:$AC$382,17,FALSE) -> 0 | H60: =VLOOKUP(H7,[1]Entrada_tratamento!$C$93:$AL$127,36,FALSE)+VLOOKUP(H7,[1]Entrada_tratamento!$C$358:$AC$382,17,FALSE) -> 0 | I60: =VLOOKUP(I7,[1]Entrada_tratamento!$C$93:$AL$127,36,FALSE)+VLOOKUP(I7,[1]Entrada_tratamento!$C$358:$AC$382,17,FALSE) -> 0 | J60: =VLOOKUP(J7,[1]Entrada_tratamento!$C$93:$AL$127,36,FALSE)+VLOOKUP(J7,[1]Entrada_tratamento!$C$358:$AC$382,17,FALSE) -> 0 | ... X60: =VLOOKUP(X7,[1]Entrada_tratamento!$C$93:$AL$127,36,FALSE)+VLOOKUP(X7,[1]Entrada_tratamento!$C$358:$AC$382,17,FALSE) -> 0 | Y60: =VLOOKUP(Y7,[1]Entrada_tratamento!$C$93:$AL$127,36,FALSE)+VLOOKUP(Y7,[1]Entrada_tratamento!$C$358:$AC$382,17,FALSE)+VLOOKUP(Y7,[1]Entrada_tratamento!$C$358:$AC$382,24,FALSE) -> 7519.945 | AA60: =SUM(C60:Y60) -> 14957.225
A61: Quantidade total de resíduos retomado para reciclagem resultantes do processo de TM/TMB/VO | B61: tonelada | C61: =VLOOKUP(C7,[1]Entrada_tratamento!$C$184:$AH$240,32,FALSE)+VLOOKUP(C7,[1]Entrada_tratamento!$C$135:$AG$177,31,FALSE) -> 1948.758 | D61: =VLOOKUP(D7,[1]Entrada_tratamento!$C$184:$AH$240,32,FALSE)+VLOOKUP(D7,[1]Entrada_tratamento!$C$135:$AG$177,31,FALSE) -> 3354.12 | E61: =VLOOKUP(E7,[1]Entrada_tratamento!$C$184:$AH$240,32,FALSE)+VLOOKUP(E7,[1]Entrada_tratamento!$C$135:$AG$177,31,FALSE) -> 496.92 | F61: =VLOOKUP(F7,[1]Entrada_tratamento!$C$184:$AH$240,32,FALSE)+VLOOKUP(F7,[1]Entrada_tratamento!$C$135:$AG$177,31,FALSE) -> 0 | G61: =VLOOKUP(G7,[1]Entrada_tratamento!$C$184:$AH$240,32,FALSE)+VLOOKUP(G7,[1]Entrada_tratamento!$C$135:$AG$177,31,FALSE) -> 171.16 | H61: =VLOOKUP(H7,[1]Entrada_tratamento!$C$184:$AH$240,32,FALSE)+VLOOKUP(H7,[1]Entrada_tratamento!$C$135:$AG$177,31,FALSE) -> 2307.88 | I61: =VLOOKUP(I7,[1]Entrada_tratamento!$C$184:$AH$240,32,FALSE)+VLOOKUP(I7,[1]Entrada_tratamento!$C$135:$AG$177,31,FALSE) -> 0 | J61: =VLOOKUP(J7,[1]Entrada_tratamento!$C$184:$AH$240,32,FALSE)+VLOOKUP(J7,[1]Entrada_tratamento!$C$135:$AG$177,31,FALSE) -> 0 | ... L61: =VLOOKUP(L7,[1]Entrada_tratamento!$C$184:$AH$240,32,FALSE)+VLOOKUP(L7,[1]Entrada_tratamento!$C$135:$AG$177,31,FALSE) -> 1544.92 | M61: =VLOOKUP(M7,[1]Entrada_tratamento!$C$247:$AG$287,31,FALSE) -> 403.35 | N61: =VLOOKUP(N7,[1]Entrada_tratamento!$C$184:$AH$240,32,FALSE)+VLOOKUP(N7,[1]Entrada_tratamento!$C$135:$AG$177,31,FALSE) -> 833.74 | O61: =VLOOKUP(O7,[1]Entrada_tratamento!$C$184:$AH$240,32,FALSE)+VLOOKUP(O7,[1]Entrada_tratamento!$C$135:$AG$177,31,FALSE) -> 2040.33 | P61: =VLOOKUP(P7,[1]Entrada_tratamento!$C$184:$AH$240,32,FALSE)+VLOOKUP(P7,[1]Entrada_tratamento!$C$135:$AG$177,31,FALSE) -> 2246.186 | Q61: =VLOOKUP(Q7,[1]Entrada_tratamento!$C$184:$AH$240,32,FALSE)+VLOOKUP(Q7,[1]Entrada_tratamento!$C$135:$AG$177,31,FALSE) -> 2904.6017 | R61: =VLOOKUP(R7,[1]Entrada_tratamento!$C$184:$AH$240,32,FALSE)+VLOOKUP(R7,[1]Entrada_tratamento!$C$135:$AG$177,31,FALSE) -> 4712.21 | S61: =VLOOKUP(S7,[1]Entrada_tratamento!$C$184:$AH$240,32,FALSE)+VLOOKUP(S7,[1]Entrada_tratamento!$C$135:$AG$177,31,FALSE) -> 2120.294 | T61: =VLOOKUP(T7,[1]Entrada_tratamento!$C$184:$AH$240,32,FALSE)+VLOOKUP(T7,[1]Entrada_tratamento!$C$135:$AG$177,31,FALSE) -> 844.19 | U61: =VLOOKUP(U7,[1]Entrada_tratamento!$C$184:$AH$240,32,FALSE)+VLOOKUP(U7,[1]Entrada_tratamento!$C$135:$AG$177,31,FALSE)+VLOOKUP(U7,[1]Entrada_tratamento!$C$247:$AH$287,31,FALSE) -> 13231.1 | V61: =VLOOKUP(V7,[1]Entrada_tratamento!$C$184:$AH$240,32,FALSE)+VLOOKUP(V7,[1]Entrada_tratamento!$C$135:$AG$177,31,FALSE) -> 1438.1 | W61: =VLOOKUP(W7,[1]Entrada_tratamento!$C$184:$AH$240,32,FALSE)+VLOOKUP(W7,[1]Entrada_tratamento!$C$135:$AG$177,31,FALSE) -> 1266.32 | X61: =VLOOKUP(X7,[1]Entrada_tratamento!$C$184:$AH$240,32,FALSE)+VLOOKUP(X7,[1]Entrada_tratamento!$C$135:$AG$177,31,FALSE) -> 764.775 | Y61: =VLOOKUP(Y7,[1]Entrada_tratamento!$C$247:$AG$287,31,FALSE) -> 0 | AA61: =SUM(C61:Y61) -> 50021.747
A62: Quantidade total de resíduos retomado para reciclagem a partir de unidades de triagem | B62: tonelada | C62: =VLOOKUP(C7,[1]Entrada_tratamento!$C$296:$AG$320,26,FALSE)+VLOOKUP(C7,[1]Entrada_tratamento!$C$327:$AJ$351,27,FALSE) -> 36674.767 | D62: =VLOOKUP(D7,[1]Entrada_tratamento!$C$296:$AG$320,26,FALSE)+VLOOKUP(D7,[1]Entrada_tratamento!$C$327:$AJ$351,27,FALSE) -> 26592.142 | E62: =VLOOKUP(E7,[1]Entrada_tratamento!$C$296:$AG$320,26,FALSE)+VLOOKUP(E7,[1]Entrada_tratamento!$C$327:$AJ$351,27,FALSE) -> 6463.86 | F62: =VLOOKUP(F7,[1]Entrada_tratamento!$C$296:$AG$320,26,FALSE)+VLOOKUP(F7,[1]Entrada_tratamento!$C$327:$AJ$351,27,FALSE) -> 7231.6704 | G62: =VLOOKUP(G7,[1]Entrada_tratamento!$C$296:$AG$320,26,FALSE)+VLOOKUP(G7,[1]Entrada_tratamento!$C$327:$AJ$351,27,FALSE) -> 1132.44 | H62: =VLOOKUP(H7,[1]Entrada_tratamento!$C$296:$AG$320,26,FALSE)+VLOOKUP(H7,[1]Entrada_tratamento!$C$327:$AJ$351,27,FALSE) -> 6142.36 | I62: =VLOOKUP(I7,[1]Entrada_tratamento!$C$296:$AG$320,26,FALSE)+VLOOKUP(I7,[1]Entrada_tratamento!$C$327:$AJ$351,27,FALSE)+[1]Entrada_tratamento!AL337 -> 10086.885 | J62: =VLOOKUP(J7,[1]Entrada_tratamento!$C$296:$AG$320,26,FALSE)+VLOOKUP(J7,[1]Entrada_tratamento!$C$327:$AJ$351,27,FALSE) -> 2228.6086 | K62: =VLOOKUP(K7,[1]Entrada_tratamento!$C$296:$AG$320,26,FALSE)+VLOOKUP(K7,[1]Entrada_tratamento!$C$327:$AJ$351,27,FALSE) -> 24014.136 | L62: =VLOOKUP(L7,[1]Entrada_tratamento!$C$296:$AG$320,26,FALSE)+VLOOKUP(L7,[1]Entrada_tratamento!$C$327:$AJ$351,27,FALSE) -> 6367.976 | M62: =VLOOKUP(M7,[1]Entrada_tratamento!$C$296:$AG$320,26,FALSE)+VLOOKUP(M7,[1]Entrada_tratamento!$C$327:$AJ$351,27,FALSE) -> 34067.23 | N62: =VLOOKUP(N7,[1]Entrada_tratamento!$C$296:$AG$320,26,FALSE)+VLOOKUP(N7,[1]Entrada_tratamento!$C$327:$AJ$351,27,FALSE) -> 5833.5 | O62: =VLOOKUP(O7,[1]Entrada_tratamento!$C$296:$AG$320,26,FALSE)+VLOOKUP(O7,[1]Entrada_tratamento!$C$327:$AJ$351,27,FALSE) -> 2706.92 | P62: =VLOOKUP(P7,[1]Entrada_tratamento!$C$296:$AG$320,26,FALSE)+VLOOKUP(P7,[1]Entrada_tratamento!$C$327:$AJ$351,27,FALSE) -> 4589.851 | Q62: =VLOOKUP(Q7,[1]Entrada_tratamento!$C$296:$AG$320,26,FALSE)+VLOOKUP(Q7,[1]Entrada_tratamento!$C$327:$AJ$351,27,FALSE) -> 27919.094 | ... Y62: =VLOOKUP(Y7,[1]Entrada_tratamento!$C$296:$AG$320,26,FALSE)+VLOOKUP(Y7,[1]Entrada_tratamento!$C$327:$AJ$351,27,FALSE) -> 64243.481 | AA62: =SUM(C62:Y62) -> 345388.3
A63: Quantidade total de resíduos saídos de plataformas de recicláveis | B63: tonelada | C63: =VLOOKUP(C7,[1]Entrada_tratamento!$C$327:$AF$351,30,FALSE)+VLOOKUP(C7,[1]Entrada_tratamento!$C$327:$AG$351,31,FALSE) -> 2444.05 | D63: =VLOOKUP(D7,[1]Entrada_tratamento!$C$327:$AF$351,30,FALSE)+VLOOKUP(D7,[1]Entrada_tratamento!$C$327:$AG$351,31,FALSE) -> 15310.931 | E63: =VLOOKUP(E7,[1]Entrada_tratamento!$C$327:$AF$351,30,FALSE)+VLOOKUP(E7,[1]Entrada_tratamento!$C$327:$AG$351,31,FALSE) -> 818.724 | F63: =VLOOKUP(F7,[1]Entrada_tratamento!$C$327:$AF$351,30,FALSE)+VLOOKUP(F7,[1]Entrada_tratamento!$C$327:$AG$351,31,FALSE) -> 6081.57 | G63: =VLOOKUP(G7,[1]Entrada_tratamento!$C$327:$AF$351,30,FALSE)+VLOOKUP(G7,[1]Entrada_tratamento!$C$327:$AG$351,31,FALSE) -> 1136.06 | H63: =VLOOKUP(H7,[1]Entrada_tratamento!$C$327:$AF$351,30,FALSE)+VLOOKUP(H7,[1]Entrada_tratamento!$C$327:$AG$351,31,FALSE) -> 7951.92 | I63: =VLOOKUP(I7,[1]Entrada_tratamento!$C$327:$AF$351,30,FALSE)+VLOOKUP(I7,[1]Entrada_tratamento!$C$327:$AG$351,31,FALSE) -> 8322.538 | J63: =VLOOKUP(J7,[1]Entrada_tratamento!$C$327:$AF$351,30,FALSE)+VLOOKUP(J7,[1]Entrada_tratamento!$C$327:$AG$351,31,FALSE) -> 1674.6235 | ... Y63: =VLOOKUP(Y7,[1]Entrada_tratamento!$C$327:$AF$351,30,FALSE)+VLOOKUP(Y7,[1]Entrada_tratamento!$C$327:$AG$351,31,FALSE) -> 41509.397 | AA63: =SUM(C63:Y63) -> 248507.05
A64: Quantidade total de composto produzido a partir de Valorização Orgânica Seletiva | B64: tonelada | C64: =VLOOKUP(C7,[1]Entrada_tratamento!$C$247:$AK$287,35,FALSE) -> 2404.14 | D64: =VLOOKUP(D7,[1]Entrada_tratamento!$C$247:$AK$287,35,FALSE) -> 0 | E64: =VLOOKUP(E7,[1]Entrada_tratamento!$C$247:$AK$287,35,FALSE) -> 0 | F64: =VLOOKUP(F7,[1]Entrada_tratamento!$C$247:$AK$287,35,FALSE) -> 0 | G64: =VLOOKUP(G7,[1]Entrada_tratamento!$C$247:$AK$287,35,FALSE) -> 0 | H64: =VLOOKUP(H7,[1]Entrada_tratamento!$C$247:$AK$287,35,FALSE) -> 0 | I64: =VLOOKUP(I7,[1]Entrada_tratamento!$C$247:$AK$287,35,FALSE) -> 0 | J64: =VLOOKUP(J7,[1]Entrada_tratamento!$C$247:$AK$287,35,FALSE) -> 0 | ... Y64: =VLOOKUP(Y7,[1]Entrada_tratamento!$C$247:$AK$287,35,FALSE) -> 3068.64 | AA64: =SUM(C64:Y64) -> 36117.24
A65: Quantidade total de composto produzido a partir de TMB | B65: tonelada | C65: =VLOOKUP(C7,[1]Entrada_tratamento!$C$184:$AK$240,35,FALSE) -> 297.11 | D65: =VLOOKUP(D7,[1]Entrada_tratamento!$C$184:$AK$240,35,FALSE) -> 9394.8 | E65: =VLOOKUP(E7,[1]Entrada_tratamento!$C$184:$AK$240,35,FALSE) -> 3824.38 | F65: =VLOOKUP(F7,[1]Entrada_tratamento!$C$184:$AK$240,35,FALSE) -> 0 | G65: =VLOOKUP(G7,[1]Entrada_tratamento!$C$184:$AK$240,35,FALSE) -> 0 | H65: =VLOOKUP(H7,[1]Entrada_tratamento!$C$184:$AK$240,35,FALSE) -> 36.34 | I65: =VLOOKUP(I7,[1]Entrada_tratamento!$C$184:$AK$240,35,FALSE) -> 0 | J65: =VLOOKUP(J7,[1]Entrada_tratamento!$C$184:$AK$240,35,FALSE) -> 0 | ... Y65: =VLOOKUP(Y7,[1]Entrada_tratamento!$C$184:$AK$240,35,FALSE) -> 0 | AA65: =SUM(C65:Y65) -> 52559.509
A66: Quantidade total de material para CDR encaminhado para produção de CDR | B66: tonelada | C66: =VLOOKUP(C7,[1]Entrada_tratamento!$C$358:$L$382,3,FALSE)+VLOOKUP(C7,[1]Entrada_tratamento!$C$358:$L$382,6,FALSE)+VLOOKUP(C7,[1]Entrada_tratamento!$C$358:$L$382,10,FALSE) -> 0 | D66: =VLOOKUP(D7,[1]Entrada_tratamento!$C$358:$L$382,3,FALSE)+VLOOKUP(D7,[1]Entrada_tratamento!$C$358:$L$382,6,FALSE)+VLOOKUP(D7,[1]Entrada_tratamento!$C$358:$L$382,10,FALSE) -> 0 | E66: =VLOOKUP(E7,[1]Entrada_tratamento!$C$358:$L$382,3,FALSE)+VLOOKUP(E7,[1]Entrada_tratamento!$C$358:$L$382,6,FALSE)+VLOOKUP(E7,[1]Entrada_tratamento!$C$358:$L$382,10,FALSE)+VLOOKUP(E7,[1]Entrada_tratamento!$C$358:$L$382,4,FALSE)-N66 -> 1313.95 | F66: =VLOOKUP(F7,[1]Entrada_tratamento!$C$358:$L$382,3,FALSE)+VLOOKUP(F7,[1]Entrada_tratamento!$C$358:$L$382,6,FALSE)+VLOOKUP(F7,[1]Entrada_tratamento!$C$358:$L$382,10,FALSE) -> 0 | G66: =VLOOKUP(G7,[1]Entrada_tratamento!$C$358:$L$382,3,FALSE)+VLOOKUP(G7,[1]Entrada_tratamento!$C$358:$L$382,6,FALSE)+VLOOKUP(G7,[1]Entrada_tratamento!$C$358:$L$382,10,FALSE) -> 0 | H66: =VLOOKUP(H7,[1]Entrada_tratamento!$C$358:$L$382,3,FALSE)+VLOOKUP(H7,[1]Entrada_tratamento!$C$358:$L$382,6,FALSE)+VLOOKUP(H7,[1]Entrada_tratamento!$C$358:$L$382,10,FALSE) -> 0 | I66: =VLOOKUP(I7,[1]Entrada_tratamento!$C$358:$L$382,3,FALSE)+VLOOKUP(I7,[1]Entrada_tratamento!$C$358:$L$382,6,FALSE)+VLOOKUP(I7,[1]Entrada_tratamento!$C$358:$L$382,10,FALSE)+VLOOKUP(I7,[1]Entrada_tratamento!$C$358:$L$382,2,FALSE) -> 4436.54 | J66: =VLOOKUP(J7,[1]Entrada_tratamento!$C$358:$L$382,3,FALSE)+VLOOKUP(J7,[1]Entrada_tratamento!$C$358:$L$382,6,FALSE)+VLOOKUP(J7,[1]Entrada_tratamento!$C$358:$L$382,10,FALSE) -> 0 | K66: =VLOOKUP(K7,[1]Entrada_tratamento!$C$358:$L$382,3,FALSE)+VLOOKUP(K7,[1]Entrada_tratamento!$C$358:$L$382,6,FALSE)+VLOOKUP(K7,[1]Entrada_tratamento!$C$358:$L$382,10,FALSE) -> 0 | L66: =VLOOKUP(L7,[1]Entrada_tratamento!$C$358:$L$382,3,FALSE)+VLOOKUP(L7,[1]Entrada_tratamento!$C$358:$L$382,6,FALSE)+VLOOKUP(L7,[1]Entrada_tratamento!$C$358:$L$382,10,FALSE) -> 0 | M66: =VLOOKUP(M7,[1]Entrada_tratamento!$C$358:$L$382,3,FALSE)+VLOOKUP(M7,[1]Entrada_tratamento!$C$358:$L$382,6,FALSE)+VLOOKUP(M7,[1]Entrada_tratamento!$C$358:$L$382,10,FALSE) -> 0 | N66: =SUMIFS([1]Resultantes_2025!P:P,[1]Resultantes_2025!B:B,'Indicadores RU'!N7,[1]Resultantes_2025!N:N,"Material para CDR") -> 751.77 | O66: =VLOOKUP(O7,[1]Entrada_tratamento!$C$358:$L$382,3,FALSE)+VLOOKUP(O7,[1]Entrada_tratamento!$C$358:$L$382,6,FALSE)+VLOOKUP(O7,[1]Entrada_tratamento!$C$358:$L$382,10,FALSE) -> 0 | P66: =VLOOKUP(P7,[1]Entrada_tratamento!$C$358:$L$382,3,FALSE)+VLOOKUP(P7,[1]Entrada_tratamento!$C$358:$L$382,6,FALSE)+VLOOKUP(P7,[1]Entrada_tratamento!$C$358:$L$382,10,FALSE) -> 0 | Q66: =VLOOKUP(Q7,[1]Entrada_tratamento!$C$358:$L$382,3,FALSE)+VLOOKUP(Q7,[1]Entrada_tratamento!$C$358:$L$382,6,FALSE)+VLOOKUP(Q7,[1]Entrada_tratamento!$C$358:$L$382,10,FALSE) -> 0 | R66: =VLOOKUP(R7,[1]Entrada_tratamento!$C$358:$L$382,3,FALSE)+VLOOKUP(R7,[1]Entrada_tratamento!$C$358:$L$382,6,FALSE)+VLOOKUP(R7,[1]Entrada_tratamento!$C$358:$L$382,10,FALSE) -> 0 | S66: =VLOOKUP(S7,[1]Entrada_tratamento!$C$358:$L$382,3,FALSE)+VLOOKUP(S7,[1]Entrada_tratamento!$C$358:$L$382,6,FALSE)+VLOOKUP(S7,[1]Entrada_tratamento!$C$358:$L$382,10,FALSE) -> 0 | T66: =VLOOKUP(T7,[1]Entrada_tratamento!$C$358:$L$382,3,FALSE)+VLOOKUP(T7,[1]Entrada_tratamento!$C$358:$L$382,6,FALSE)+VLOOKUP(T7,[1]Entrada_tratamento!$C$358:$L$382,10,FALSE) -> 0 | U66: =VLOOKUP(U7,[1]Entrada_tratamento!$C$358:$L$382,3,FALSE)+VLOOKUP(U7,[1]Entrada_tratamento!$C$358:$L$382,6,FALSE)+VLOOKUP(U7,[1]Entrada_tratamento!$C$358:$L$382,10,FALSE) -> 0 | V66: =VLOOKUP(V7,[1]Entrada_tratamento!$C$358:$L$382,3,FALSE)+VLOOKUP(V7,[1]Entrada_tratamento!$C$358:$L$382,6,FALSE)+VLOOKUP(V7,[1]Entrada_tratamento!$C$358:$L$382,10,FALSE) -> 0 | ... Y66: =VLOOKUP(Y7,[1]Entrada_tratamento!$C$358:$L$382,3,FALSE)+VLOOKUP(Y7,[1]Entrada_tratamento!$C$358:$L$382,6,FALSE)+VLOOKUP(Y7,[1]Entrada_tratamento!$C$358:$L$382,10,FALSE) -> 0 | AA66: =SUM(C66:Y66) -> 6502.26
A67: Quantidade total de CDR produzido | B67: tonelada | C67: =VLOOKUP(C7,[1]Entrada_tratamento!$C$358:$AB$382,16,FALSE) -> 0 | D67: =VLOOKUP(D7,[1]Entrada_tratamento!$C$358:$AB$382,16,FALSE) -> 0 | E67: =VLOOKUP(E7,[1]Entrada_tratamento!$C$358:$AB$382,16,FALSE) -> 913.5 | F67: =VLOOKUP(F7,[1]Entrada_tratamento!$C$358:$AB$382,16,FALSE) -> 0 | G67: =VLOOKUP(G7,[1]Entrada_tratamento!$C$358:$AB$382,16,FALSE) -> 0 | H67: =VLOOKUP(H7,[1]Entrada_tratamento!$C$358:$AB$382,16,FALSE) -> 0 | I67: =VLOOKUP(I7,[1]Entrada_tratamento!$C$358:$AB$382,16,FALSE) -> 2104.46 | J67: =VLOOKUP(J7,[1]Entrada_tratamento!$C$358:$AB$382,16,FALSE) -> 0 | ... Y67: =VLOOKUP(Y7,[1]Entrada_tratamento!$C$358:$AB$382,16,FALSE) -> 0 | AA67: =SUM(C67:Y67) -> 3017.96
A69: Quantidade de vidro retomado para reciclagem | B69: tonelada | C69: =VLOOKUP(C7,'[1]Tabelas AUX'!$B$286:$BF$308,54,FALSE) -> 16348.56 | D69: =VLOOKUP(D7,'[1]Tabelas AUX'!$B$286:$BF$308,54,FALSE) -> 13963.3 | E69: =VLOOKUP(E7,'[1]Tabelas AUX'!$B$286:$BF$308,54,FALSE) -> 2585.74 | F69: =VLOOKUP(F7,'[1]Tabelas AUX'!$B$286:$BF$308,54,FALSE) -> 5622.2 | G69: =VLOOKUP(G7,'[1]Tabelas AUX'!$B$286:$BF$308,54,FALSE) -> 645.24 | H69: =VLOOKUP(H7,'[1]Tabelas AUX'!$B$286:$BF$308,54,FALSE) -> 7832.74 | I69: =VLOOKUP(I7,'[1]Tabelas AUX'!$B$286:$BF$308,54,FALSE) -> 6081.24 | J69: =VLOOKUP(J7,'[1]Tabelas AUX'!$B$286:$BF$308,54,FALSE) -> 1478.42 | ... Y69: =VLOOKUP(Y7,'[1]Tabelas AUX'!$B$286:$BF$308,54,FALSE) -> 31034.3 | AA69: =SUM(C69:Y69) -> 207013.69
A70: Quantidade de papel/cartão retomado para reciclagem (inclui ECAL) | B70: tonelada | C70: =VLOOKUP(C7,'[1]Tabelas AUX'!$B$286:$BF$308,55,FALSE) -> 15546.96 | D70: =VLOOKUP(D7,'[1]Tabelas AUX'!$B$286:$BF$308,55,FALSE) -> 17433.042 | E70: =VLOOKUP(E7,'[1]Tabelas AUX'!$B$286:$BF$308,55,FALSE) -> 2768.04 | F70: =VLOOKUP(F7,'[1]Tabelas AUX'!$B$286:$BF$308,55,FALSE) -> 5208.2604 | G70: =VLOOKUP(G7,'[1]Tabelas AUX'!$B$286:$BF$308,55,FALSE) -> 698.1 | H70: =VLOOKUP(H7,'[1]Tabelas AUX'!$B$286:$BF$308,55,FALSE) -> 4714.2 | I70: =VLOOKUP(I7,'[1]Tabelas AUX'!$B$286:$BF$308,55,FALSE) -> 5191.14 | J70: =VLOOKUP(J7,'[1]Tabelas AUX'!$B$286:$BF$308,55,FALSE) -> 1738.7286 | ... Y70: =VLOOKUP(Y7,'[1]Tabelas AUX'!$B$286:$BF$308,55,FALSE) -> 41869.872 | AA70: =SUM(C70:Y70) -> 225560.74
A71: Quantidade de plástico/metal retomado para reciclagem | B71: tonelada | C71: =VLOOKUP(C7,'[1]Tabelas AUX'!$B$286:$BF$308,56,FALSE) -> 7694.213 | D71: =VLOOKUP(D7,'[1]Tabelas AUX'!$B$286:$BF$308,56,FALSE) -> 11806.555 | E71: =VLOOKUP(E7,'[1]Tabelas AUX'!$B$286:$BF$308,56,FALSE) -> 1890.82 | F71: =VLOOKUP(F7,'[1]Tabelas AUX'!$B$286:$BF$308,56,FALSE) -> 2149.75 | G71: =VLOOKUP(G7,'[1]Tabelas AUX'!$B$286:$BF$308,56,FALSE) -> 747.7 | H71: =VLOOKUP(H7,'[1]Tabelas AUX'!$B$286:$BF$308,56,FALSE) -> 3401.16 | I71: =VLOOKUP(I7,'[1]Tabelas AUX'!$B$286:$BF$308,56,FALSE) -> 5019.8046 | J71: =VLOOKUP(J7,'[1]Tabelas AUX'!$B$286:$BF$308,56,FALSE) -> 557.82 | ... Y71: =VLOOKUP(Y7,'[1]Tabelas AUX'!$B$286:$BF$308,56,FALSE) -> 22912.84 | AA71: =SUM(C71:Y71) -> 137382.2
A72: Quantidade de madeira retomado para reciclagem | B72: tonelada | C72: =VLOOKUP(C7,'[1]Tabelas AUX'!$B$286:$BF$308,57,FALSE) -> 787.77 | D72: =VLOOKUP(D7,'[1]Tabelas AUX'!$B$286:$BF$308,57,FALSE) -> 1782.08 | E72: =VLOOKUP(E7,'[1]Tabelas AUX'!$B$286:$BF$308,57,FALSE) -> 142.94 | F72: =VLOOKUP(F7,'[1]Tabelas AUX'!$B$286:$BF$308,57,FALSE) -> 173.83 | G72: =VLOOKUP(G7,'[1]Tabelas AUX'!$B$286:$BF$308,57,FALSE) -> 122.82 | H72: =VLOOKUP(H7,'[1]Tabelas AUX'!$B$286:$BF$308,57,FALSE) -> 0 | I72: =VLOOKUP(I7,'[1]Tabelas AUX'!$B$286:$BF$308,57,FALSE) -> 639.98 | J72: =VLOOKUP(J7,'[1]Tabelas AUX'!$B$286:$BF$308,57,FALSE) -> 18.32 | ... Y72: =VLOOKUP(Y7,'[1]Tabelas AUX'!$B$286:$BF$308,57,FALSE) -> 9076.401 | AA72: =SUM(C72:Y72) -> 49771.354
