Workbook
Name _2._Data_reporting___questionnaire: #REF!
Name _2._Description_of_the_parties_involved_in_the_data_collection: #REF!
Name _2._Legal_acts: #REF!
Name _3._Data_reporting___questionnaire: #REF!
Name _3._Description_of_methods_used: #REF!
Name _3._Methodological_notes: #REF!
Name _3._Methodology_for_reporting_by_numbers: #REF!
Name _4._Accuracy_of_the_data: #REF!
Name _4._Data_reporting___questionnaire: #REF!
Name _4._Methodology_for_reporting_by_numbers: #REF!
Name _4._Methodology_for_reporting_by_weight: #REF!
Name _5._Confidentiality: #REF!
Name _6._Main_national_websites__reference_documents_and_publications: #REF!
Name a: #REF!
Name aa: #REF!
Name aa: #REF!
Name aaa: #REF!
Name aaaa: #REF!
Name ABCD: #REF!
Name anew: #REF!
Name Annual_consumption_of_lightweight_plastic_carrier_bags_QUALITY_REPORT: #REF!
Name ANNUAL_CONSUMPTION_OF_LIGHTWEIGHT_PLASTIC_CARRIER_BAGS_QUESTIONS_ON_METHODOLOGY_AND_COVERAGE: #REF!
Name Ano: #REF!
Name as: #REF!
Name COUNTRY: #REF!
Name Data_uses: #REF!
Name DECIMALS: #REF!
Name ficha_3: #REF!
Name ficha_3: #REF!
Name ficha_5: #REF!
Name ficha_5: #REF!
Name ficha_6: #REF!
Name ficha_6: #REF!
Name Fluxog_Resialentejo: #REF!
Name Fluxog_Resialentejo: #REF!
Name Formulário: #REF!
Name FRT_N90: #REF!
Name Legal_acts: #REF!
Name LER: #REF!
Name mmm: #REF!
Name New_calculation: #REF!
Name PDR: #REF!
Name Preço_N90: #REF!
Name ROUNDING: #REF!
Name TipoResíduo: #REF!
Name Triagem: #REF!
Name unhide_all_sheets: #REF!

Sheet Indicadores RU
C3: Tabela 1 - Dados de Resíduos Urbanos, do ano 2025
C4: Fonte: Formulários do Mapa de Registo de Resíduos Urbanos disponibilizados através da Plataforma SILiAmb
A7: Designação | B7: unidade | C7: Algar | D7: Amarsul | E7: Ambilital | F7: Ambisousa | G7: Amcal | H7: Braval | I7: Planalto Beirão | J7: Ecoleziria | K7: ERSUC | L7: Gesamb | M7: Lipor | N7: Resialentejo | O7: Resíduos Nordeste | P7: Resiestrela | Q7: RESINORTE | R7: RSTJ | S7: Resulima | T7: Suldouro | U7: Tratolixo | V7: Valnor | W7: Valorlis | X7: Valorminho | Y7: Valorsul | AA7: Total PT continental
A8: Quantidade de total de resíduos produzidos/recebidos | B8: tonelada | C8: =SUM(C11:C15) -> 440553.03 | D8: =SUM(D11:D15) -> 501914.87 | E8: =SUM(E11:E15) -> 73985.616 | F8: =SUM(F11:F15) -> 156004.99 | G8: =SUM(G11:G15) -> 14257.08 | H8: =SUM(H11:H15) -> 146949.51 | I8: =SUM(I11:I15) -> 154539.95 | J8: =SUM(J11:J15) -> 67977.763 | ... Y8: =SUM(Y11:Y15) -> 863670.06 | AA8: =SUM(C8:Y8) -> 5426493.4
A9: Quantidade de RU produzidos/recebidos | B9: tonelada | C9: =SUM(C11:C14) -> 434596.79 | D9: =SUM(D11:D14) -> 495593.4 | E9: =SUM(E11:E14) -> 73985.616 | F9: =SUM(F11:F14) -> 156004.99 | G9: =SUM(G11:G14) -> 14257.08 | H9: =SUM(H11:H14) -> 137296.65 | I9: =SUM(I11:I14) -> 143204.35 | J9: =SUM(J11:J14) -> 67974.183 | ... Y9: =SUM(Y11:Y14) -> 861654.43 | AA9: =SUM(C9:Y9) -> 5380414.4
A11: Recolha Indiferenciada | B11: tonelada | C11: =VLOOKUP(C7,'[1]Total SGRU'!$B$11:$L$36,2,FALSE) -> 288247.58 | D11: =VLOOKUP(D7,'[1]Total SGRU'!$B$11:$L$36,2,FALSE) -> 316323.1 | E11: =VLOOKUP(E7,'[1]Total SGRU'!$B$11:$L$36,2,FALSE) -> 59326.12 | F11: =VLOOKUP(F7,'[1]Total SGRU'!$B$11:$L$36,2,FALSE) -> 137762.21 | G11: =VLOOKUP(G7,'[1]Total SGRU'!$B$11:$L$36,2,FALSE) -> 9594.54 | H11: =VLOOKUP(H7,'[1]Total SGRU'!$B$11:$L$36,2,FALSE) -> 112173.73 | I11: =VLOOKUP(I7,'[1]Total SGRU'!$B$11:$L$36,2,FALSE) -> 119381.8 | J11: =VLOOKUP(J7,'[1]Total SGRU'!$B$11:$L$36,2,FALSE) -> 58619.28 | ... Y11: =VLOOKUP(Y7,'[1]Total SGRU'!$B$11:$L$36,2,FALSE) -> 659855.77 | AA11: =SUM(C11:Y11) -> 4011950.3
A12: Recolha Seletiva e outras recolhas | B12: tonelada | C12: =VLOOKUP(C7,'[1]Total SGRU'!$B$11:$L$36,3,FALSE) -> 122459.35 | D12: =VLOOKUP(D7,'[1]Total SGRU'!$B$11:$L$36,3,FALSE) -> 177804.74 | E12: =VLOOKUP(E7,'[1]Total SGRU'!$B$11:$L$36,3,FALSE) -> 12528.615 | F12: =VLOOKUP(F7,'[1]Total SGRU'!$B$11:$L$36,3,FALSE) -> 15478.29 | G12: =VLOOKUP(G7,'[1]Total SGRU'!$B$11:$L$36,3,FALSE) -> 4585.88 | H12: =VLOOKUP(H7,'[1]Total SGRU'!$B$11:$L$36,3,FALSE) -> 24889.001 | I12: =VLOOKUP(I7,'[1]Total SGRU'!$B$11:$L$36,3,FALSE) -> 21557.202 | J12: =VLOOKUP(J7,'[1]Total SGRU'!$B$11:$L$36,3,FALSE) -> 8228.06 | ... Y12: =VLOOKUP(Y7,'[1]Total SGRU'!$B$11:$L$36,3,FALSE) -> 193036.28 | AA12: =SUM(C12:Y12) -> 1283859.1
A13: Entradas de outros produtores de RU | B13: tonelada | C13: =VLOOKUP(C7,'[1]Total SGRU'!$B$11:$L$36,4,FALSE) -> 22965.412 | D13: =VLOOKUP(D7,'[1]Total SGRU'!$B$11:$L$36,4,FALSE) -> 1004.75 | E13: =VLOOKUP(E7,'[1]Total SGRU'!$B$11:$L$36,4,FALSE) -> 2065.3842 | F13: =VLOOKUP(F7,'[1]Total SGRU'!$B$11:$L$36,4,FALSE) -> 0 | G13: =VLOOKUP(G7,'[1]Total SGRU'!$B$11:$L$36,4,FALSE) -> 73.2 | H13: =VLOOKUP(H7,'[1]Total SGRU'!$B$11:$L$36,4,FALSE) -> 222.88 | I13: =VLOOKUP(I7,'[1]Total SGRU'!$B$11:$L$36,4,FALSE) -> 1856.46 | J13: =VLOOKUP(J7,'[1]Total SGRU'!$B$11:$L$36,4,FALSE) -> 0 | ... Y13: =VLOOKUP(Y7,'[1]Total SGRU'!$B$11:$L$36,4,FALSE) -> 7278.548 | AA13: =SUM(C13:Y13) -> 58108.667
A14: Reciclagem na Origem | B14: tonelada | C14: =VLOOKUP(C7,[1]Biorresíduos_RO_f!$A$315:$E$337,5,FALSE) -> 924.44323 | D14: =VLOOKUP(D7,[1]Biorresíduos_RO_f!$A$315:$E$337,5,FALSE) -> 460.81153 | E14: =VLOOKUP(E7,[1]Biorresíduos_RO_f!$A$315:$E$337,5,FALSE) -> 65.496975 | F14: =VLOOKUP(F7,[1]Biorresíduos_RO_f!$A$315:$E$337,5,FALSE) -> 2764.4937 | G14: =VLOOKUP(G7,[1]Biorresíduos_RO_f!$A$315:$E$337,5,FALSE) -> 3.46 | H14: =VLOOKUP(H7,[1]Biorresíduos_RO_f!$A$315:$E$337,5,FALSE) -> 11.032911 | I14: =VLOOKUP(I7,[1]Biorresíduos_RO_f!$A$315:$E$337,5,FALSE) -> 408.89145 | J14: =VLOOKUP(J7,[1]Biorresíduos_RO_f!$A$315:$E$337,5,FALSE) -> 1126.8426 | ... Y14: =VLOOKUP(Y7,[1]Biorresíduos_RO_f!$A$315:$E$337,5,FALSE) -> 1483.8375 | AA14: =SUM(C14:Y14) -> 26496.358
A15: Entradas de RNU | B15: tonelada | C15: =VLOOKUP(C7,'[1]Total SGRU'!$B$11:$L$36,5,FALSE) -> 5956.24 | D15: =VLOOKUP(D7,'[1]Total SGRU'!$B$11:$L$36,5,FALSE) -> 6321.47 | E15: =VLOOKUP(E7,'[1]Total SGRU'!$B$11:$L$36,5,FALSE) -> 0 | F15: =VLOOKUP(F7,'[1]Total SGRU'!$B$11:$L$36,5,FALSE) -> 0 | G15: =VLOOKUP(G7,'[1]Total SGRU'!$B$11:$L$36,5,FALSE) -> 0 | H15: =VLOOKUP(H7,'[1]Total SGRU'!$B$11:$L$36,5,FALSE) -> 9652.86 | I15: =VLOOKUP(I7,'[1]Total SGRU'!$B$11:$L$36,5,FALSE) -> 11335.6 | J15: =VLOOKUP(J7,'[1]Total SGRU'!$B$11:$L$36,5,FALSE) -> 3.58 | ... Y15: =VLOOKUP(Y7,'[1]Total SGRU'!$B$11:$L$36,5,FALSE) -> 2015.629 | AA15: =SUM(C15:Y15) -> 46079.029
A17: Quantidade total de resíduos depositados em aterro | B17: tonelada | C17: =SUM(C18:C22) -> 359872.06 | D17: =SUM(D18:D22) -> 371065.95 | E17: =SUM(E18:E22) -> 48400.181 | F17: =SUM(F18:F22) -> 139261.23 | G17: =SUM(G18:G22) -> 8064.72 | H17: =SUM(H18:H22) -> 118493.37 | I17: =SUM(I18:I22) -> 129655.56 | J17: =SUM(J18:J22) -> 59071.44 | ... Y17: =SUM(Y18:Y22) -> 79257.949 | AA17: =SUM(C17:Y17) -> 3012561.7
A18: Resíduos Urbanos recolhas municipais | B18: tonelada | C18: =VLOOKUP(C7,[1]Entrada_tratamento!$C$14:$H$85,2,FALSE)+VLOOKUP(C7,[1]Entrada_tratamento!$C$14:$H$85,3,FALSE) -> 205967.01 | D18: =VLOOKUP(D7,[1]Entrada_tratamento!$C$14:$H$85,2,FALSE)+VLOOKUP(D7,[1]Entrada_tratamento!$C$14:$H$85,3,FALSE) -> 142459.87 | E18: =VLOOKUP(E7,[1]Entrada_tratamento!$C$14:$H$85,2,FALSE)+VLOOKUP(E7,[1]Entrada_tratamento!$C$14:$H$85,3,FALSE) -> 33791.899 | F18: =VLOOKUP(F7,[1]Entrada_tratamento!$C$14:$H$85,2,FALSE)+VLOOKUP(F7,[1]Entrada_tratamento!$C$14:$H$85,3,FALSE) -> 137762.21 | G18: =VLOOKUP(G7,[1]Entrada_tratamento!$C$14:$H$85,2,FALSE)+VLOOKUP(G7,[1]Entrada_tratamento!$C$14:$H$85,3,FALSE) -> 5604.46 | H18: =VLOOKUP(H7,[1]Entrada_tratamento!$C$14:$H$85,2,FALSE)+VLOOKUP(H7,[1]Entrada_tratamento!$C$14:$H$85,3,FALSE) -> 59223.547 | I18: =VLOOKUP(I7,[1]Entrada_tratamento!$C$14:$H$85,2,FALSE)+VLOOKUP(I7,[1]Entrada_tratamento!$C$14:$H$85,3,FALSE) -> 41915.48 | J18: =VLOOKUP(J7,[1]Entrada_tratamento!$C$14:$H$85,2,FALSE)+VLOOKUP(J7,[1]Entrada_tratamento!$C$14:$H$85,3,FALSE) -> 59069.92 | ... Y18: =VLOOKUP(Y7,[1]Entrada_tratamento!$C$14:$H$85,2,FALSE)+VLOOKUP(Y7,[1]Entrada_tratamento!$C$14:$H$85,3,FALSE) -> 65668.95 | AA18: =SUM(C18:Y18) -> 1146607.2
A19: RU (Outros produtores de RU) | B19: tonelada | C19: =VLOOKUP(C7,[1]Entrada_tratamento!$C$14:$H$85,4,FALSE) -> 19740.272 | D19: =VLOOKUP(D7,[1]Entrada_tratamento!$C$14:$H$85,4,FALSE) -> 196.92 | E19: =VLOOKUP(E7,[1]Entrada_tratamento!$C$14:$H$85,4,FALSE) -> 845.74176 | F19: =VLOOKUP(F7,[1]Entrada_tratamento!$C$14:$H$85,4,FALSE) -> 0 | G19: =VLOOKUP(G7,[1]Entrada_tratamento!$C$14:$H$85,4,FALSE) -> 0 | H19: =VLOOKUP(H7,[1]Entrada_tratamento!$C$14:$H$85,4,FALSE) -> 98.06 | I19: =VLOOKUP(I7,[1]Entrada_tratamento!$C$14:$H$85,4,FALSE) -> 1856.46 | J19: =VLOOKUP(J7,[1]Entrada_tratamento!$C$14:$H$85,4,FALSE) -> 0 | ... Y19: =VLOOKUP(Y7,[1]Entrada_tratamento!$C$14:$H$85,4,FALSE) -> 0 | AA19: =SUM(C19:Y19) -> 23922.802
A20: RU recebido de outro SGRU | B20: tonelada | C20: =VLOOKUP(C7,[1]Entrada_tratamento!$C$14:$H$85,6,FALSE) -> 0 | D20: =VLOOKUP(D7,[1]Entrada_tratamento!$C$14:$H$85,6,FALSE) -> 0 | E20: =VLOOKUP(E7,[1]Entrada_tratamento!$C$14:$H$85,6,FALSE) -> 0 | F20: =VLOOKUP(F7,[1]Entrada_tratamento!$C$14:$H$85,6,FALSE) -> 0 | G20: =VLOOKUP(G7,[1]Entrada_tratamento!$C$14:$H$85,6,FALSE) -> 0 | H20: =VLOOKUP(H7,[1]Entrada_tratamento!$C$14:$H$85,6,FALSE) -> 0 | I20: =VLOOKUP(I7,[1]Entrada_tratamento!$C$14:$H$85,6,FALSE) -> 0 | J20: =VLOOKUP(J7,[1]Entrada_tratamento!$C$14:$H$85,6,FALSE) -> 0 | ... Y20: =VLOOKUP(Y7,[1]Entrada_tratamento!$C$14:$H$85,6,FALSE) -> 0 | AA20: =SUM(C20:Y20) -> 178.28
A21: RNU | B21: tonelada | C21: =VLOOKUP(C7,[1]Entrada_tratamento!$C$14:$H$85,5,FALSE) -> 4744.8 | D21: =VLOOKUP(D7,[1]Entrada_tratamento!$C$14:$H$85,5,FALSE) -> 6321.47 | E21: =VLOOKUP(E7,[1]Entrada_tratamento!$C$14:$H$85,5,FALSE) -> 0 | F21: =VLOOKUP(F7,[1]Entrada_tratamento!$C$14:$H$85,5,FALSE) -> 0 | G21: =VLOOKUP(G7,[1]Entrada_tratamento!$C$14:$H$85,5,FALSE) -> 0 | H21: =VLOOKUP(H7,[1]Entrada_tratamento!$C$14:$H$85,5,FALSE) -> 9474.28 | I21: =VLOOKUP(I7,[1]Entrada_tratamento!$C$14:$H$85,5,FALSE) -> 11335.6 | J21: =VLOOKUP(J7,[1]Entrada_tratamento!$C$14:$H$85,5,FALSE) -> 0 | ... Y21: =VLOOKUP(Y7,[1]Entrada_tratamento!$C$14:$H$85,5,FALSE) -> 805.689 | AA21: =SUM(C21:Y21) -> 40990.499
A22: Rejeitados/Refugos/outros resíduos resultantes recebidos | B22: tonelada | C22: =VLOOKUP(C7,[1]Entrada_tratamento!$C$14:$S$85,17,FALSE) -> 129419.98 | D22: =VLOOKUP(D7,[1]Entrada_tratamento!$C$14:$S$85,17,FALSE) -> 222087.69 | E22: =VLOOKUP(E7,[1]Entrada_tratamento!$C$14:$S$85,17,FALSE) -> 13762.54 | F22: =VLOOKUP(F7,[1]Entrada_tratamento!$C$14:$S$85,17,FALSE) -> 1499.02 | G22: =VLOOKUP(G7,[1]Entrada_tratamento!$C$14:$S$85,17,FALSE) -> 2460.26 | H22: =VLOOKUP(H7,[1]Entrada_tratamento!$C$14:$S$85,17,FALSE) -> 49697.487 | I22: =VLOOKUP(I7,[1]Entrada_tratamento!$C$14:$S$85,17,FALSE) -> 74548.02 | J22: =VLOOKUP(J7,[1]Entrada_tratamento!$C$14:$S$85,17,FALSE) -> 1.52 | ... Y22: =VLOOKUP(Y7,[1]Entrada_tratamento!$C$14:$S$85,17,FALSE) -> 12783.31 | AA22: =SUM(C22:Y22) -> 1800862.9
A23: Quantidade total de resíduos que deram entrada em unidades de TMB | B23: tonelada | C23: =SUM(C24:C29) -> 103855.64 | D23: =SUM(D24:D29) -> 241542.12 | E23: =SUM(E24:E29) -> 31097.793 | F23: =SUM(F24:F29) -> 0 | G23: =SUM(G24:G29) -> 6396.3 | H23: =SUM(H24:H29) -> 57923.76 | I23: =SUM(I24:I29) -> 81734.28 | J23: =SUM(J24:J29) -> 0 | ... Y23: =SUM(Y24:Y29) -> 0 | AA23: =SUM(C23:Y23) -> 1880287
A24: Resíduos Urbanos recolhas municipais | B24: tonelada | C24: =VLOOKUP(C7,[1]Entrada_tratamento!$C$184:$I$240,2,FALSE)+VLOOKUP(C7,[1]Entrada_tratamento!$C$184:$I$240,3,FALSE)-C25 -> 95893.457 | D24: =VLOOKUP(D7,[1]Entrada_tratamento!$C$184:$I$240,2,FALSE)+VLOOKUP(D7,[1]Entrada_tratamento!$C$184:$I$240,3,FALSE)-D25 -> 226443.5 | E24: =VLOOKUP(E7,[1]Entrada_tratamento!$C$184:$I$240,2,FALSE)+VLOOKUP(E7,[1]Entrada_tratamento!$C$184:$I$240,3,FALSE)-E25 -> 25929.721 | F24: =VLOOKUP(F7,[1]Entrada_tratamento!$C$184:$I$240,2,FALSE)+VLOOKUP(F7,[1]Entrada_tratamento!$C$184:$I$240,3,FALSE)-F25 -> 0 | G24: =VLOOKUP(G7,[1]Entrada_tratamento!$C$184:$I$240,2,FALSE)+VLOOKUP(G7,[1]Entrada_tratamento!$C$184:$I$240,3,FALSE)-G25 -> 5982.96 | H24: =VLOOKUP(H7,[1]Entrada_tratamento!$C$184:$I$240,2,FALSE)+VLOOKUP(H7,[1]Entrada_tratamento!$C$184:$I$240,3,FALSE)-H25 -> 57894.2 | I24: =VLOOKUP(I7,[1]Entrada_tratamento!$C$135:$I$177,2,FALSE)+VLOOKUP(I7,[1]Entrada_tratamento!$C$135:$I$177,3,FALSE) -> 81596.34 | J24: =VLOOKUP(J7,[1]Entrada_tratamento!$C$184:$I$240,2,FALSE)+VLOOKUP(J7,[1]Entrada_tratamento!$C$184:$I$240,3,FALSE)-J25 -> 0 | K24: =VLOOKUP(K7,[1]Entrada_tratamento!$C$184:$I$240,2,FALSE)+VLOOKUP(K7,[1]Entrada_tratamento!$C$184:$I$240,3,FALSE)-K25 -> 356327.48 | L24: =VLOOKUP(L7,[1]Entrada_tratamento!$C$184:$I$240,2,FALSE)+VLOOKUP(L7,[1]Entrada_tratamento!$C$184:$I$240,3,FALSE)-L25 -> 59210.403 | M24: =VLOOKUP(M7,[1]Entrada_tratamento!$C$184:$I$240,2,FALSE)+VLOOKUP(M7,[1]Entrada_tratamento!$C$184:$I$240,3,FALSE)-M25 -> 0 | N24: =VLOOKUP(N7,[1]Entrada_tratamento!$C$184:$I$240,2,FALSE)+VLOOKUP(N7,[1]Entrada_tratamento!$C$184:$I$240,3,FALSE)-N25 -> 42485.673 | O24: =VLOOKUP(O7,[1]Entrada_tratamento!$C$184:$I$240,2,FALSE)+VLOOKUP(O7,[1]Entrada_tratamento!$C$184:$I$240,3,FALSE)-O25 -> 54387.38 | P24: =VLOOKUP(P7,[1]Entrada_tratamento!$C$184:$I$240,2,FALSE)+VLOOKUP(P7,[1]Entrada_tratamento!$C$184:$I$240,3,FALSE)-P25 -> 68641.24 | Q24: =VLOOKUP(Q7,[1]Entrada_tratamento!$C$184:$I$240,2,FALSE)+VLOOKUP(Q7,[1]Entrada_tratamento!$C$184:$I$240,3,FALSE)-Q25 -> 125878.42 | ... Y24: =VLOOKUP(Y7,[1]Entrada_tratamento!$C$184:$I$240,2,FALSE)+VLOOKUP(Y7,[1]Entrada_tratamento!$C$184:$I$240,3,FALSE)-Y25 -> 0 | AA24: =SUM(C24:Y24) -> 1654921.2
A25: RUB e Verdes de recolhas municipais | B25: tonelada | C25: =VLOOKUP(C7,'[1]Tabelas AUX'!$B$109:$M$133,11,FALSE)+VLOOKUP(C7,'[1]Tabelas AUX'!$B$109:$M$133,12,FALSE) -> 5925.38 | D25: =VLOOKUP(D7,'[1]Tabelas AUX'!$B$109:$M$133,11,FALSE)+VLOOKUP(D7,'[1]Tabelas AUX'!$B$109:$M$133,12,FALSE) -> 11128.95 | E25: =VLOOKUP(E7,'[1]Tabelas AUX'!$B$109:$M$133,11,FALSE)+VLOOKUP(E7,'[1]Tabelas AUX'!$B$109:$M$133,12,FALSE) -> 2660.41 | F25: =VLOOKUP(F7,'[1]Tabelas AUX'!$B$109:$M$133,11,FALSE)+VLOOKUP(F7,'[1]Tabelas AUX'!$B$109:$M$133,12,FALSE) -> 0 | G25: =VLOOKUP(G7,'[1]Tabelas AUX'!$B$109:$M$133,11,FALSE)+VLOOKUP(G7,'[1]Tabelas AUX'!$B$109:$M$133,12,FALSE)-G31 -> 413.34 | H25: =VLOOKUP(H7,'[1]Tabelas AUX'!$B$109:$M$133,11,FALSE)+VLOOKUP(H7,'[1]Tabelas AUX'!$B$109:$M$133,12,FALSE) -> 27.96 | I25: =VLOOKUP(I7,'[1]Tabelas AUX'!$B$109:$M$133,11,FALSE)+VLOOKUP(I7,'[1]Tabelas AUX'!$B$109:$M$133,12,FALSE) -> 137.94 | J25: =VLOOKUP(J7,'[1]Tabelas AUX'!$B$109:$M$133,11,FALSE)+VLOOKUP(J7,'[1]Tabelas AUX'!$B$109:$M$133,12,FALSE) -> 0 | K25: =VLOOKUP(K7,'[1]Tabelas AUX'!$B$109:$M$133,11,FALSE)+VLOOKUP(K7,'[1]Tabelas AUX'!$B$109:$M$133,12,FALSE) -> 10274.98 | L25: =VLOOKUP(L7,'[1]Tabelas AUX'!$B$109:$M$133,11,FALSE)+VLOOKUP(L7,'[1]Tabelas AUX'!$B$109:$M$133,12,FALSE) -> 1651.28 | M25: =VLOOKUP(M7,'[1]Tabelas AUX'!$B$109:$M$133,11,FALSE)+VLOOKUP(M7,'[1]Tabelas AUX'!$B$109:$M$133,12,FALSE) -> 0 | N25: =VLOOKUP(N7,'[1]Tabelas AUX'!$B$109:$M$133,11,FALSE)+VLOOKUP(N7,'[1]Tabelas AUX'!$B$109:$M$133,12,FALSE) -> 2573.45 | O25: =VLOOKUP(O7,'[1]Tabelas AUX'!$B$109:$M$133,11,FALSE)+VLOOKUP(O7,'[1]Tabelas AUX'!$B$109:$M$133,12,FALSE) -> 225.98 | ... Y25: =VLOOKUP(Y7,'[1]Tabelas AUX'!$B$109:$M$133,11,FALSE)+VLOOKUP(Y7,'[1]Tabelas AUX'!$B$109:$M$133,12,FALSE) -> 0 | AA25: =SUM(C25:Y25) -> 84397.685
A26: RU (Outros produtores de RU) | B26: tonelada | C26: =VLOOKUP(C7,[1]Entrada_tratamento!$C$184:$I$240,4,FALSE) -> 1888.72 | D26: =VLOOKUP(D7,[1]Entrada_tratamento!$C$184:$I$240,4,FALSE) -> 366.76 | E26: =VLOOKUP(E7,[1]Entrada_tratamento!$C$184:$I$240,4,FALSE) -> 1190.0824 | F26: =VLOOKUP(F7,[1]Entrada_tratamento!$C$184:$I$240,4,FALSE) -> 0 | G26: =VLOOKUP(G7,[1]Entrada_tratamento!$C$184:$I$240,4,FALSE) -> 0 | H26: =VLOOKUP(H7,[1]Entrada_tratamento!$C$184:$I$240,4,FALSE) -> 1.6 | I26: =VLOOKUP(I7,[1]Entrada_tratamento!$C$184:$I$240,4,FALSE) -> 0 | J26: =VLOOKUP(J7,[1]Entrada_tratamento!$C$184:$I$240,4,FALSE) -> 0 | ... Y26: =VLOOKUP(Y7,[1]Entrada_tratamento!$C$184:$I$240,4,FALSE) -> 0 | AA26: =SUM(C26:Y26) -> 17379.402
A27: RU recebido de outro SGRU | B27: tonelada | C27: =VLOOKUP(C7,[1]Entrada_tratamento!$C$184:$I$240,6,FALSE) -> 0 | D27: =VLOOKUP(D7,[1]Entrada_tratamento!$C$184:$I$240,6,FALSE) -> 1603.76 | E27: =VLOOKUP(E7,[1]Entrada_tratamento!$C$184:$I$240,6,FALSE) -> 0 | F27: =VLOOKUP(F7,[1]Entrada_tratamento!$C$184:$I$240,6,FALSE) -> 0 | G27: =VLOOKUP(G7,[1]Entrada_tratamento!$C$184:$I$240,6,FALSE) -> 0 | H27: =VLOOKUP(H7,[1]Entrada_tratamento!$C$184:$I$240,6,FALSE) -> 0 | I27: =VLOOKUP(I7,[1]Entrada_tratamento!$C$184:$I$240,6,FALSE) -> 0 | J27: =VLOOKUP(J7,[1]Entrada_tratamento!$C$184:$I$240,6,FALSE) -> 0 | ... Y27: =VLOOKUP(Y7,[1]Entrada_tratamento!$C$184:$I$240,6,FALSE) -> 0 | AA27: =SUM(C27:Y27) -> 22695.14
A28: RNU | B28: tonelada | C28: =VLOOKUP(C7,[1]Entrada_tratamento!$C$184:$I$240,5,FALSE) -> 0 | D28: =VLOOKUP(D7,[1]Entrada_tratamento!$C$184:$I$240,5,FALSE) -> 0 | E28: =VLOOKUP(E7,[1]Entrada_tratamento!$C$184:$I$240,5,FALSE) -> 0 | F28: =VLOOKUP(F7,[1]Entrada_tratamento!$C$184:$I$240,5,FALSE) -> 0 | G28: =VLOOKUP(G7,[1]Entrada_tratamento!$C$184:$I$240,5,FALSE) -> 0 | H28: =VLOOKUP(H7,[1]Entrada_tratamento!$C$184:$I$240,5,FALSE) -> 0 | I28: =VLOOKUP(I7,[1]Entrada_tratamento!$C$184:$I$240,5,FALSE) -> 0 | J28: =VLOOKUP(J7,[1]Entrada_tratamento!$C$184:$I$240,5,FALSE) -> 0 | ... Y28: =VLOOKUP(Y7,[1]Entrada_tratamento!$C$184:$I$240,5,FALSE) -> 0 | AA28: =SUM(C28:Y28) -> 402.02
A29: Rejeitados/Refugos/outros resíduos resultantes recebidos | B29: tonelada | C29: =VLOOKUP(C7,[1]Entrada_tratamento!$C$184:$S$240,17,FALSE)-VLOOKUP(C7,[1]Entrada_tratamento!$C$184:$S$240,9,FALSE)-VLOOKUP(C7,[1]Entrada_tratamento!$C$184:$S$240,10,FALSE) -> 148.08 | D29: =VLOOKUP(D7,[1]Entrada_tratamento!$C$184:$S$240,17,FALSE)-VLOOKUP(D7,[1]Entrada_tratamento!$C$184:$S$240,9,FALSE)-VLOOKUP(D7,[1]Entrada_tratamento!$C$184:$S$240,10,FALSE) -> 1999.15 | E29: =VLOOKUP(E7,[1]Entrada_tratamento!$C$184:$S$240,17,FALSE)-VLOOKUP(E7,[1]Entrada_tratamento!$C$184:$S$240,9,FALSE)-VLOOKUP(E7,[1]Entrada_tratamento!$C$184:$S$240,10,FALSE) -> 1317.58 | F29: =VLOOKUP(F7,[1]Entrada_tratamento!$C$184:$S$240,17,FALSE)-VLOOKUP(F7,[1]Entrada_tratamento!$C$184:$S$240,9,FALSE)-VLOOKUP(F7,[1]Entrada_tratamento!$C$184:$S$240,10,FALSE) -> 0 | G29: =VLOOKUP(G7,[1]Entrada_tratamento!$C$184:$S$240,17,FALSE)-VLOOKUP(G7,[1]Entrada_tratamento!$C$184:$S$240,9,FALSE)-VLOOKUP(G7,[1]Entrada_tratamento!$C$184:$S$240,10,FALSE) -> 0 | H29: =VLOOKUP(H7,[1]Entrada_tratamento!$C$184:$S$240,17,FALSE)-VLOOKUP(H7,[1]Entrada_tratamento!$C$184:$S$240,9,FALSE)-VLOOKUP(H7,[1]Entrada_tratamento!$C$184:$S$240,10,FALSE) -> 0 | I29: 0 | J29: =VLOOKUP(J7,[1]Entrada_tratamento!$C$184:$S$240,17,FALSE)-VLOOKUP(J7,[1]Entrada_tratamento!$C$184:$S$240,9,FALSE)-VLOOKUP(J7,[1]Entrada_tratamento!$C$184:$S$240,10,FALSE) -> 0 | K29: =VLOOKUP(K7,[1]Entrada_tratamento!$C$184:$S$240,17,FALSE)-VLOOKUP(K7,[1]Entrada_tratamento!$C$184:$S$240,9,FALSE)-VLOOKUP(K7,[1]Entrada_tratamento!$C$184:$S$240,10,FALSE) -> 0 | L29: =VLOOKUP(L7,[1]Entrada_tratamento!$C$184:$S$240,17,FALSE)-VLOOKUP(L7,[1]Entrada_tratamento!$C$184:$S$240,9,FALSE)-VLOOKUP(L7,[1]Entrada_tratamento!$C$184:$S$240,10,FALSE) -> 10333.12 | M29: =VLOOKUP(M7,[1]Entrada_tratamento!$C$184:$S$240,17,FALSE)-VLOOKUP(M7,[1]Entrada_tratamento!$C$184:$S$240,9,FALSE)-VLOOKUP(M7,[1]Entrada_tratamento!$C$184:$S$240,10,FALSE) -> 0 | N29: =VLOOKUP(N7,[1]Entrada_tratamento!$C$184:$S$240,17,FALSE)-VLOOKUP(N7,[1]Entrada_tratamento!$C$184:$S$240,9,FALSE)-VLOOKUP(N7,[1]Entrada_tratamento!$C$184:$S$240,10,FALSE) -> 990.918 | O29: =VLOOKUP(O7,[1]Entrada_tratamento!$C$184:$S$240,17,FALSE)-VLOOKUP(O7,[1]Entrada_tratamento!$C$184:$S$240,9,FALSE)-VLOOKUP(O7,[1]Entrada_tratamento!$C$184:$S$240,10,FALSE) -> 0 | P29: =VLOOKUP(P7,[1]Entrada_tratamento!$C$184:$S$240,17,FALSE)-VLOOKUP(P7,[1]Entrada_tratamento!$C$184:$S$240,9,FALSE)-VLOOKUP(P7,[1]Entrada_tratamento!$C$184:$S$240,10,FALSE) -> 0 | Q29: =VLOOKUP(Q7,[1]Entrada_tratamento!$C$184:$S$240,17,FALSE)-VLOOKUP(Q7,[1]Entrada_tratamento!$C$184:$S$240,9,FALSE)-VLOOKUP(Q7,[1]Entrada_tratamento!$C$184:$S$240,10,FALSE) -> 3638.64 | ... Y29: =VLOOKUP(Y7,[1]Entrada_tratamento!$C$184:$S$240,17,FALSE)-VLOOKUP(Y7,[1]Entrada_tratamento!$C$184:$S$240,9,FALSE)-VLOOKUP(Y7,[1]Entrada_tratamento!$C$184:$S$240,10,FALSE) -> 0 | AA29: =SUM(C29:Y29) -> 100491.5
A30: Quantidade total de RUB entrados em unidades de valorização orgânica provenientes de recolhida selectiva | B30: tonelada | C30: =SUM(C31:C35) -> 16172.086 | D30: =SUM(D31:D35) -> 0 | E30: =SUM(E31:E35) -> 0 | F30: =SUM(F31:F35) -> 0 | G30: =SUM(G31:G35) -> 0 | H30: =SUM(H31:H35) -> 0 | I30: =SUM(I31:I35) -> 0 | J30: =SUM(J31:J35) -> 0 | ... Y30: =SUM(Y31:Y35) -> 39687.415 | AA30: =SUM(C30:Y30) -> 168563.19
A31: RUB e Verdes de recolhas municipais | B31: tonelada | C31: =VLOOKUP(C7,[1]Entrada_tratamento!$C$247:$I$287,3,FALSE) -> 14328.946 | D31: =VLOOKUP(D7,[1]Entrada_tratamento!$C$247:$I$287,3,FALSE) -> 0 | E31: =VLOOKUP(E7,[1]Entrada_tratamento!$C$247:$I$287,3,FALSE) -> 0 | F31: =VLOOKUP(F7,[1]Entrada_tratamento!$C$247:$I$287,3,FALSE) -> 0 | G31: =VLOOKUP(G7,[1]Entrada_tratamento!$C$247:$I$287,3,FALSE) -> 0 | H31: =VLOOKUP(H7,[1]Entrada_tratamento!$C$247:$I$287,3,FALSE) -> 0 | I31: =VLOOKUP(I7,[1]Entrada_tratamento!$C$247:$I$287,3,FALSE) -> 0 | J31: =VLOOKUP(J7,[1]Entrada_tratamento!$C$247:$I$287,3,FALSE) -> 0 | ... Y31: =VLOOKUP(Y7,[1]Entrada_tratamento!$C$247:$I$287,3,FALSE) -> 35523.675 | AA31: =SUM(C31:Y31) -> 159185.29
A32: RU (Outros produtores de RU) | B32: tonelada | C32: =VLOOKUP(C7,[1]Entrada_tratamento!$C$247:$I$287,4,FALSE) -> 631.7 | D32: =VLOOKUP(D7,[1]Entrada_tratamento!$C$247:$I$287,4,FALSE) -> 0 | E32: =VLOOKUP(E7,[1]Entrada_tratamento!$C$247:$I$287,4,FALSE) -> 0 | F32: =VLOOKUP(F7,[1]Entrada_tratamento!$C$247:$I$287,4,FALSE) -> 0 | G32: =VLOOKUP(G7,[1]Entrada_tratamento!$C$247:$I$287,4,FALSE) -> 0 | H32: =VLOOKUP(H7,[1]Entrada_tratamento!$C$247:$I$287,4,FALSE) -> 0 | I32: =VLOOKUP(I7,[1]Entrada_tratamento!$C$247:$I$287,4,FALSE) -> 0 | J32: =VLOOKUP(J7,[1]Entrada_tratamento!$C$247:$I$287,4,FALSE) -> 0 | ... Y32: =VLOOKUP(Y7,[1]Entrada_tratamento!$C$247:$I$287,4,FALSE) -> 3425.42 | AA32: =SUM(C32:Y32) -> 7009.18
A33: RUB recebido de outro SGRU | B33: tonelada | C33: =VLOOKUP(C7,[1]Entrada_tratamento!$C$247:$I$287,6,FALSE) -> 0 | D33: =VLOOKUP(D7,[1]Entrada_tratamento!$C$247:$I$287,6,FALSE) -> 0 | E33: =VLOOKUP(E7,[1]Entrada_tratamento!$C$247:$I$287,6,FALSE) -> 0 | F33: =VLOOKUP(F7,[1]Entrada_tratamento!$C$247:$I$287,6,FALSE) -> 0 | G33: =VLOOKUP(G7,[1]Entrada_tratamento!$C$247:$I$287,6,FALSE) -> 0 | H33: =VLOOKUP(H7,[1]Entrada_tratamento!$C$247:$I$287,6,FALSE) -> 0 | I33: =VLOOKUP(I7,[1]Entrada_tratamento!$C$247:$I$287,6,FALSE) -> 0 | J33: =VLOOKUP(J7,[1]Entrada_tratamento!$C$247:$I$287,6,FALSE) -> 0 | ... Y33: =VLOOKUP(Y7,[1]Entrada_tratamento!$C$247:$I$287,6,FALSE) -> 729.2 | AA33: =SUM(C33:Y33) -> 752.67
A34: RNU | B34: tonelada | C34: =VLOOKUP(C7,[1]Entrada_tratamento!$C$247:$I$287,5,FALSE) -> 1211.44 | D34: =VLOOKUP(D7,[1]Entrada_tratamento!$C$247:$I$287,5,FALSE) -> 0 | E34: =VLOOKUP(E7,[1]Entrada_tratamento!$C$247:$I$287,5,FALSE) -> 0 | F34: =VLOOKUP(F7,[1]Entrada_tratamento!$C$247:$I$287,5,FALSE) -> 0 | G34: =VLOOKUP(G7,[1]Entrada_tratamento!$C$247:$I$287,5,FALSE) -> 0 | H34: =VLOOKUP(H7,[1]Entrada_tratamento!$C$247:$I$287,5,FALSE) -> 0 | I34: =VLOOKUP(I7,[1]Entrada_tratamento!$C$247:$I$287,5,FALSE) -> 0 | J34: =VLOOKUP(J7,[1]Entrada_tratamento!$C$247:$I$287,5,FALSE) -> 0 | ... Y34: =VLOOKUP(Y7,[1]Entrada_tratamento!$C$247:$I$287,5,FALSE) -> 9.12 | AA34: =SUM(C34:Y34) -> 1616.05
A35: Rejeitados/Refugos/outros resíduos resultantes recebidos | B35: tonelada | C35: =VLOOKUP(C7,[1]Entrada_tratamento!$C$247:$S$287,17,FALSE) -> 0 | D35: =VLOOKUP(D7,[1]Entrada_tratamento!$C$247:$S$287,17,FALSE) -> 0 | E35: =VLOOKUP(E7,[1]Entrada_tratamento!$C$247:$S$287,17,FALSE) -> 0 | F35: =VLOOKUP(F7,[1]Entrada_tratamento!$C$247:$S$287,17,FALSE) -> 0 | G35: =VLOOKUP(G7,[1]Entrada_tratamento!$C$247:$S$287,17,FALSE) -> 0 | H35: =VLOOKUP(H7,[1]Entrada_tratamento!$C$247:$S$287,17,FALSE) -> 0 | I35: =VLOOKUP(I7,[1]Entrada_tratamento!$C$247:$S$287,17,FALSE) -> 0 | J35: =VLOOKUP(J7,[1]Entrada_tratamento!$C$247:$S$287,17,FALSE) -> 0 | ... Y35: =VLOOKUP(Y7,[1]Entrada_tratamento!$C$247:$S$287,17,FALSE) -> 0 | AA35: =SUM(C35:Y35) -> 0
A36: Quantidade total de resíduos que deram entrada em centrais de incineração | B36: tonelada | C36: =SUM(C37:C41) -> 0 | D36: =SUM(D37:D41) -> 0 | E36: =SUM(E37:E41) -> 0 | F36: =SUM(F37:F41) -> 0 | G36: =SUM(G37:G41) -> 0 | H36: =SUM(H37:H41) -> 0 | I36: =SUM(I37:I41) -> 0 | J36: =SUM(J37:J41) -> 0 | ... Y36: =SUM(Y37:Y41) -> 650599.61 | AA36: =SUM(C36:Y36) -> 1038101.7
A37: Resíduos Urbanos recolhas municipais | B37: tonelada | C37: =VLOOKUP(C7,[1]Entrada_tratamento!$C$93:$I$127,2,FALSE)+VLOOKUP(C7,[1]Entrada_tratamento!$C$93:$I$127,3,FALSE) -> 0 | D37: =VLOOKUP(D7,[1]Entrada_tratamento!$C$93:$I$127,2,FALSE)+VLOOKUP(D7,[1]Entrada_tratamento!$C$93:$I$127,3,FALSE) -> 0 | E37: =VLOOKUP(E7,[1]Entrada_tratamento!$C$93:$I$127,2,FALSE)+VLOOKUP(E7,[1]Entrada_tratamento!$C$93:$I$127,3,FALSE) -> 0 | F37: =VLOOKUP(F7,[1]Entrada_tratamento!$C$93:$I$127,2,FALSE)+VLOOKUP(F7,[1]Entrada_tratamento!$C$93:$I$127,3,FALSE) -> 0 | G37: =VLOOKUP(G7,[1]Entrada_tratamento!$C$93:$I$127,2,FALSE)+VLOOKUP(G7,[1]Entrada_tratamento!$C$93:$I$127,3,FALSE) -> 0 | H37: =VLOOKUP(H7,[1]Entrada_tratamento!$C$93:$I$127,2,FALSE)+VLOOKUP(H7,[1]Entrada_tratamento!$C$93:$I$127,3,FALSE) -> 0 | I37: =VLOOKUP(I7,[1]Entrada_tratamento!$C$93:$I$127,2,FALSE)+VLOOKUP(I7,[1]Entrada_tratamento!$C$93:$I$127,3,FALSE) -> 0 | J37: =VLOOKUP(J7,[1]Entrada_tratamento!$C$93:$I$127,2,FALSE)+VLOOKUP(J7,[1]Entrada_tratamento!$C$93:$I$127,3,FALSE) -> 0 | ... Y37: =VLOOKUP(Y7,[1]Entrada_tratamento!$C$93:$I$127,2,FALSE)+VLOOKUP(Y7,[1]Entrada_tratamento!$C$93:$I$127,3,FALSE) -> 610753.53 | AA37: =SUM(C37:Y37) -> 984565.28
A38: RU (Outros produtores de RU) | B38: tonelada | C38: =VLOOKUP(C7,[1]Entrada_tratamento!$C$93:$I$127,4,FALSE) -> 0 | D38: =VLOOKUP(D7,[1]Entrada_tratamento!$C$93:$I$127,4,FALSE) -> 0 | E38: =VLOOKUP(E7,[1]Entrada_tratamento!$C$93:$I$127,4,FALSE) -> 0 | F38: =VLOOKUP(F7,[1]Entrada_tratamento!$C$93:$I$127,4,FALSE) -> 0 | G38: =VLOOKUP(G7,[1]Entrada_tratamento!$C$93:$I$127,4,FALSE) -> 0 | H38: =VLOOKUP(H7,[1]Entrada_tratamento!$C$93:$I$127,4,FALSE) -> 0 | I38: =VLOOKUP(I7,[1]Entrada_tratamento!$C$93:$I$127,4,FALSE) -> 0 | J38: =VLOOKUP(J7,[1]Entrada_tratamento!$C$93:$I$127,4,FALSE) -> 0 | ... Y38: =VLOOKUP(Y7,[1]Entrada_tratamento!$C$93:$I$127,4,FALSE) -> 3065.62 | AA38: =SUM(C38:Y38) -> 3621.28
A39: RU recebido de outro SGRU | B39: tonelada | C39: =VLOOKUP(C7,[1]Entrada_tratamento!$C$93:$I$127,6,FALSE) -> 0 | D39: =VLOOKUP(D7,[1]Entrada_tratamento!$C$93:$I$127,6,FALSE) -> 0 | E39: =VLOOKUP(E7,[1]Entrada_tratamento!$C$93:$I$127,6,FALSE) -> 0 | F39: =VLOOKUP(F7,[1]Entrada_tratamento!$C$93:$I$127,6,FALSE) -> 0 | G39: =VLOOKUP(G7,[1]Entrada_tratamento!$C$93:$I$127,6,FALSE) -> 0 | H39: =VLOOKUP(H7,[1]Entrada_tratamento!$C$93:$I$127,6,FALSE) -> 0 | I39: =VLOOKUP(I7,[1]Entrada_tratamento!$C$93:$I$127,6,FALSE) -> 0 | J39: =VLOOKUP(J7,[1]Entrada_tratamento!$C$93:$I$127,6,FALSE) -> 0 | ... Y39: =VLOOKUP(Y7,[1]Entrada_tratamento!$C$93:$I$127,6,FALSE) -> 6640.02 | AA39: =SUM(C39:Y39) -> 6640.02
A40: RNU | B40: tonelada | C40: =VLOOKUP(C7,[1]Entrada_tratamento!$C$93:$I$127,5,FALSE) -> 0 | D40: =VLOOKUP(D7,[1]Entrada_tratamento!$C$93:$I$127,5,FALSE) -> 0 | E40: =VLOOKUP(E7,[1]Entrada_tratamento!$C$93:$I$127,5,FALSE) -> 0 | F40: =VLOOKUP(F7,[1]Entrada_tratamento!$C$93:$I$127,5,FALSE) -> 0 | G40: =VLOOKUP(G7,[1]Entrada_tratamento!$C$93:$I$127,5,FALSE) -> 0 | H40: =VLOOKUP(H7,[1]Entrada_tratamento!$C$93:$I$127,5,FALSE) -> 0 | I40: =VLOOKUP(I7,[1]Entrada_tratamento!$C$93:$I$127,5,FALSE) -> 0 | J40: =VLOOKUP(J7,[1]Entrada_tratamento!$C$93:$I$127,5,FALSE) -> 0 | ... Y40: =VLOOKUP(Y7,[1]Entrada_tratamento!$C$93:$I$127,5,FALSE) -> 1200.82 | AA40: =SUM(C40:Y40) -> 2870.74
A41: Rejeitados/Refugos/outros resíduos resultantes recebidos | B41: tonelada | C41: =VLOOKUP(C7,[1]Entrada_tratamento!$C$93:$S$127,17,FALSE) -> 0 | D41: =VLOOKUP(D7,[1]Entrada_tratamento!$C$93:$S$127,17,FALSE) -> 0 | E41: =VLOOKUP(E7,[1]Entrada_tratamento!$C$93:$S$127,17,FALSE) -> 0 | F41: =VLOOKUP(F7,[1]Entrada_tratamento!$C$93:$S$127,17,FALSE) -> 0 | G41: =VLOOKUP(G7,[1]Entrada_tratamento!$C$93:$S$127,17,FALSE) -> 0 | H41: =VLOOKUP(H7,[1]Entrada_tratamento!$C$93:$S$127,17,FALSE) -> 0 | I41: =VLOOKUP(I7,[1]Entrada_tratamento!$C$93:$S$127,17,FALSE) -> 0 | J41: =VLOOKUP(J7,[1]Entrada_tratamento!$C$93:$S$127,17,FALSE) -> 0 | ... Y41: =VLOOKUP(Y7,[1]Entrada_tratamento!$C$93:$S$127,17,FALSE) -> 28939.62 | AA41: =SUM(C41:Y41) -> 40404.42
A42: Quantidade total de resíduos que deram entrada em unidades de TM | B42: tonelada | C42: =SUM(C43:C47) -> 0 | D42: =SUM(D43:D47) -> 0 | E42: =SUM(E43:E47) -> 0 | F42: =SUM(F43:F47) -> 0 | G42: =SUM(G43:G47) -> 0 | H42: =SUM(H43:H47) -> 0 | I42: =SUM(I43:I47) -> 0 | J42: =SUM(J43:J47) -> 0 | ... Y42: =SUM(Y43:Y47) -> 0 | AA42: =SUM(C42:Y42) -> 333766.7
A43: Resíduos Urbanos recolhas municipais | B43: tonelada | C43: =VLOOKUP(C7,[1]Entrada_tratamento!$C$135:$I$177,2,FALSE)+VLOOKUP(C7,[1]Entrada_tratamento!$C$135:$I$177,3,FALSE) -> 0 | D43: =VLOOKUP(D7,[1]Entrada_tratamento!$C$135:$I$177,2,FALSE)+VLOOKUP(D7,[1]Entrada_tratamento!$C$135:$I$177,3,FALSE) -> 0 | E43: =VLOOKUP(E7,[1]Entrada_tratamento!$C$135:$I$177,2,FALSE)+VLOOKUP(E7,[1]Entrada_tratamento!$C$135:$I$177,3,FALSE) -> 0 | F43: =VLOOKUP(F7,[1]Entrada_tratamento!$C$135:$I$177,2,FALSE)+VLOOKUP(F7,[1]Entrada_tratamento!$C$135:$I$177,3,FALSE) -> 0 | G43: =VLOOKUP(G7,[1]Entrada_tratamento!$C$135:$I$177,2,FALSE)+VLOOKUP(G7,[1]Entrada_tratamento!$C$135:$I$177,3,FALSE) -> 0 | H43: =VLOOKUP(H7,[1]Entrada_tratamento!$C$135:$I$177,2,FALSE)+VLOOKUP(H7,[1]Entrada_tratamento!$C$135:$I$177,3,FALSE) -> 0 | I43: 0 | J43: =VLOOKUP(J7,[1]Entrada_tratamento!$C$135:$I$177,2,FALSE)+VLOOKUP(J7,[1]Entrada_tratamento!$C$135:$I$177,3,FALSE) -> 0 | K43: =VLOOKUP(K7,[1]Entrada_tratamento!$C$135:$I$177,2,FALSE)+VLOOKUP(K7,[1]Entrada_tratamento!$C$135:$I$177,3,FALSE) -> 0 | L43: =VLOOKUP(L7,[1]Entrada_tratamento!$C$135:$I$177,2,FALSE)+VLOOKUP(L7,[1]Entrada_tratamento!$C$135:$I$177,3,FALSE) -> 0 | M43: =VLOOKUP(M7,[1]Entrada_tratamento!$C$135:$I$177,2,FALSE)+VLOOKUP(M7,[1]Entrada_tratamento!$C$135:$I$177,3,FALSE) -> 0 | N43: =VLOOKUP(N7,[1]Entrada_tratamento!$C$135:$I$177,2,FALSE)+VLOOKUP(N7,[1]Entrada_tratamento!$C$135:$I$177,3,FALSE) -> 0 | O43: =VLOOKUP(O7,[1]Entrada_tratamento!$C$135:$I$177,2,FALSE)+VLOOKUP(O7,[1]Entrada_tratamento!$C$135:$I$177,3,FALSE) -> 0 | P43: =VLOOKUP(P7,[1]Entrada_tratamento!$C$135:$I$177,2,FALSE)+VLOOKUP(P7,[1]Entrada_tratamento!$C$135:$I$177,3,FALSE) -> 0 | Q43: =VLOOKUP(Q7,[1]Entrada_tratamento!$C$135:$I$177,2,FALSE)+VLOOKUP(Q7,[1]Entrada_tratamento!$C$135:$I$177,3,FALSE) -> 7804.119 | ... Y43: =VLOOKUP(Y7,[1]Entrada_tratamento!$C$135:$I$177,2,FALSE)+VLOOKUP(Y7,[1]Entrada_tratamento!$C$135:$I$177,3,FALSE) -> 0 | AA43: =SUM(C43:Y43) -> 329690.56
A44: RU (Outros produtores de RU) | B44: tonelada | C44: =VLOOKUP(C7,[1]Entrada_tratamento!$C$135:$I$177,4,FALSE) -> 0 | D44: =VLOOKUP(D7,[1]Entrada_tratamento!$C$135:$I$177,4,FALSE) -> 0 | E44: =VLOOKUP(E7,[1]Entrada_tratamento!$C$135:$I$177,4,FALSE) -> 0 | F44: =VLOOKUP(F7,[1]Entrada_tratamento!$C$135:$I$177,4,FALSE) -> 0 | G44: =VLOOKUP(G7,[1]Entrada_tratamento!$C$135:$I$177,4,FALSE) -> 0 | H44: =VLOOKUP(H7,[1]Entrada_tratamento!$C$135:$I$177,4,FALSE) -> 0 | I44: =VLOOKUP(I7,[1]Entrada_tratamento!$C$135:$I$177,4,FALSE) -> 0 | J44: =VLOOKUP(J7,[1]Entrada_tratamento!$C$135:$I$177,4,FALSE) -> 0 | ... Y44: =VLOOKUP(Y7,[1]Entrada_tratamento!$C$135:$I$177,4,FALSE) -> 0 | AA44: =SUM(C44:Y44) -> 738.4
A45: RU recebido de outro SGRU | B45: tonelada | C45: =VLOOKUP(C7,[1]Entrada_tratamento!$C$135:$I$177,6,FALSE) -> 0 | D45: =VLOOKUP(D7,[1]Entrada_tratamento!$C$135:$I$177,6,FALSE) -> 0 | E45: =VLOOKUP(E7,[1]Entrada_tratamento!$C$135:$I$177,6,FALSE) -> 0 | F45: =VLOOKUP(F7,[1]Entrada_tratamento!$C$135:$I$177,6,FALSE) -> 0 | G45: =VLOOKUP(G7,[1]Entrada_tratamento!$C$135:$I$177,6,FALSE) -> 0 | H45: =VLOOKUP(H7,[1]Entrada_tratamento!$C$135:$I$177,6,FALSE) -> 0 | I45: =VLOOKUP(I7,[1]Entrada_tratamento!$C$135:$I$177,6,FALSE) -> 0 | J45: =VLOOKUP(J7,[1]Entrada_tratamento!$C$135:$I$177,6,FALSE) -> 0 | ... Y45: =VLOOKUP(Y7,[1]Entrada_tratamento!$C$135:$I$177,6,FALSE) -> 0 | AA45: =SUM(C45:Y45) -> 0
A46: RNU | B46: tonelada | C46: =VLOOKUP(C7,[1]Entrada_tratamento!$C$135:$I$177,5,FALSE) -> 0 | D46: =VLOOKUP(D7,[1]Entrada_tratamento!$C$135:$I$177,5,FALSE) -> 0 | E46: =VLOOKUP(E7,[1]Entrada_tratamento!$C$135:$I$177,5,FALSE) -> 0 | F46: =VLOOKUP(F7,[1]Entrada_tratamento!$C$135:$I$177,5,FALSE) -> 0 | G46: =VLOOKUP(G7,[1]Entrada_tratamento!$C$135:$I$177,5,FALSE) -> 0 | H46: =VLOOKUP(H7,[1]Entrada_tratamento!$C$135:$I$177,5,FALSE) -> 0 | I46: =VLOOKUP(I7,[1]Entrada_tratamento!$C$135:$I$177,5,FALSE) -> 0 | J46: =VLOOKUP(J7,[1]Entrada_tratamento!$C$135:$I$177,5,FALSE) -> 0 | ... Y46: =VLOOKUP(Y7,[1]Entrada_tratamento!$C$135:$I$177,5,FALSE) -> 0 | AA46: =SUM(C46:Y46) -> 0
...
